BEGIN:VCALENDAR
VERSION:2.0
PRODID:-//Patriot Guard Riders - ECPv5.3.2.1//NONSGML v1.0//EN
CALSCALE:GREGORIAN
METHOD:PUBLISH
X-WR-CALNAME:Patriot Guard Riders
X-ORIGINAL-URL:https://www.patriotguard.org
X-WR-CALDESC:Events for Patriot Guard Riders
BEGIN:VTIMEZONE
TZID:America/New_York
BEGIN:DAYLIGHT
TZOFFSETFROM:-0500
TZOFFSETTO:-0400
TZNAME:EDT
DTSTART:20190310T070000
END:DAYLIGHT
BEGIN:STANDARD
TZOFFSETFROM:-0400
TZOFFSETTO:-0500
TZNAME:EST
DTSTART:20191103T060000
END:STANDARD
END:VTIMEZONE
BEGIN:VEVENT
DTSTART;VALUE=DATE:20190812
DTEND;VALUE=DATE:20190813
DTSTAMP:20210402T123513
CREATED:20190812T005412Z
LAST-MODIFIED:20190812T005412Z
UID:170546-1565568000-1565654399@www.patriotguard.org
SUMMARY:William R. Dixon
DESCRIPTION:Honor Mission\nWilliam R. Dixon\, Veteran\nUSA\nConcord\, North Carolina – 08-12-19\n\n\n \n\nABOUT THE MISSION: \nThe son of our hero\, Mr. William R. Dixon\, has requested the Patriot Guard Riders to stand for his father as he once stood for us. Mr. Dixon served in the US Army in the 96th Infantry and achieved the rank of PFC before being Honorably discharged. Mr. Dixon passed away 10 years ago today at the age of 85 and his son has decided to have a burial ceremony for his father. This will be a graveside service with full military honors. Mr. Dixon served his country faithfully and with honor and now we will be able to stand for him and show him and his family the honor and respect that he so greatly deserves.\n\n\nPRIMARY STAGING DETAILS: 08-12-19 \nStaging Time: 10:15 am\n \nCabarrus Memorial Gardens\n3892 Hwy 73 E\nConcord\, North Carolina 28025\nMap\n\n\nRide Captain: \nKeith “Bypass Biker” Arbuckle\nMSGkeith28025@hotmail.com\n(704) 789-3400\n\n\nSpecial Instructions: \n10:30 AM – Briefing\n10:45 AM – Establish the flag line\n11:00 AM – Graveside service begins with full military honors\n11:30 AM – Service concludes – Leave the cemetery quietly\n\nFlags & Water:\nFlags will be provided\nIf you have large bike flags\, please bring them.\nWater WILL NOT be provided\, please bring your own.\n\n\n\nSubmitted By: Keith Arbuckle \nPosition: North Carolina Ride Captain \n\nNote: You do not have to own/ride a motorcycle or be a veteran to join\, and membership is Free. The only requirement is RESPECT! To subscribe to receive mission notices\, log into the National Site and click on the Members tab at the top. Select the Subscribe to PGR Missions option.\n Print This Page
URL:https://www.patriotguard.org/mission/william-r-dixon/
CATEGORIES:Honor Mission
END:VEVENT
END:VCALENDAR