BEGIN:VCALENDAR
VERSION:2.0
PRODID:-//Patriot Guard Riders - ECPv5.6.0//NONSGML v1.0//EN
CALSCALE:GREGORIAN
METHOD:PUBLISH
X-WR-CALNAME:Patriot Guard Riders
X-ORIGINAL-URL:https://www.patriotguard.org
X-WR-CALDESC:Events for Patriot Guard Riders
BEGIN:VTIMEZONE
TZID:America/New_York
BEGIN:DAYLIGHT
TZOFFSETFROM:-0500
TZOFFSETTO:-0400
TZNAME:EDT
DTSTART:20160313T070000
END:DAYLIGHT
BEGIN:STANDARD
TZOFFSETFROM:-0400
TZOFFSETTO:-0500
TZNAME:EST
DTSTART:20161106T060000
END:STANDARD
END:VTIMEZONE
BEGIN:VEVENT
DTSTART;TZID=America/New_York:20160804T090000
DTEND;TZID=America/New_York:20160804T110000
DTSTAMP:20210512T022202
CREATED:20160804T130000Z
LAST-MODIFIED:20191201T143849Z
UID:410163-1470301200-1470308400@www.patriotguard.org
SUMMARY:William Poston\, 58\, USA Veteran / Murchison
DESCRIPTION:WILLIAM POSTON(58)\n\n\nU.S. ARMY VETERAN\nThursday\, August 4\, 2016\n\n\n\n \n\n[ATTACH=CONFIG]4990[/ATTACH]\n\n\nBorn: January 1958\nDeceased: July 31\, 2016\n\nHis  family has requested that the PGR attend his services.  The mission is a  ‘go’ and all contacts have been made.\n\nMr. Poston served for two years  in the Army\, and was honorably discharged at the rank of PFC.   \nServices:   2:30 pm\, Thursday\, August 4th at Ash Cemetery County Road 3711 off of  Hwy 31 North East of Athens\, South West of Murchison\, Texas.  This  mission will be FLAG LINE ONLY. \n\nStaging:  at Ash Cemetery from 1:00 pm – 1:30 pm with a riders meeting at 1:30 pm.  All  new members are requested to sign a PGR Release of Liability prior to flagline.  Please remain flexible as to the requirements of the mission.  \n\nMap link staging area: http://tinyurl.com/zxlcdb8\n\nRide Captain:  Bill Parrish\nPhone:  [URL=”tel:903-926-1962″]903-926-1962[/URL]\nEmail Address: bparrish4x4@gmail.com \nFlag Captain:  Gail Johnston\nPhone:  [URL=”tel:903-372-6049″]903-372-6049[/URL]\nEmail Address: lakepark@suddenlink.net \nWeather Report: high will be close to 100 so please hydrate often\, including the night before. \nALL  GROUPS\, CLUBS\, INDEPENDENTS\, ETC. ARE WELCOME.  The only prerequisite  is RESPECT.  Also remember\, you do not have to ride a motorcycle to join  in.  The flag line is open to all who wish to participate.
URL:https://www.patriotguard.org/mission/william-poston-58-usa-veteran-murchison/
CATEGORIES:Archive
END:VEVENT
END:VCALENDAR