BEGIN:VCALENDAR
VERSION:2.0
PRODID:-//Patriot Guard Riders - ECPv5.3.2.1//NONSGML v1.0//EN
CALSCALE:GREGORIAN
METHOD:PUBLISH
X-WR-CALNAME:Patriot Guard Riders
X-ORIGINAL-URL:https://www.patriotguard.org
X-WR-CALDESC:Events for Patriot Guard Riders
BEGIN:VTIMEZONE
TZID:America/New_York
BEGIN:DAYLIGHT
TZOFFSETFROM:-0500
TZOFFSETTO:-0400
TZNAME:EDT
DTSTART:20190310T070000
END:DAYLIGHT
BEGIN:STANDARD
TZOFFSETFROM:-0400
TZOFFSETTO:-0500
TZNAME:EST
DTSTART:20191103T060000
END:STANDARD
END:VTIMEZONE
BEGIN:VEVENT
DTSTART;VALUE=DATE:20190720
DTEND;VALUE=DATE:20190721
DTSTAMP:20210403T190143
CREATED:20190719T010119Z
LAST-MODIFIED:20190719T010119Z
UID:168185-1563580800-1563667199@www.patriotguard.org
SUMMARY:William Patrick
DESCRIPTION:Honor Mission\nWilliam Patrick\, Veteran\nUSA –\nConcord\, North Carolina – 07-20-19\n\n\n\nABOUT THE MISSION: \nThe family of William Patrick has requested the Patriot Guard to stand for their hero as he stood for us. Mr. Patrick served in the US Army as a vehicle mech. He was awarded the National Defense Service Medal and Infrantry Badge. His family and grand kids were his love. He also loved gardening and fishing.\n\n\nPRIMARY STAGING DETAILS: 07-20-19 \nStaging Time: 1:40 PM\n \nWilkinson FH\nConcord\, North Carolina\n\n\nRide Captain: \nBenny Hayslett\n704-477-5015\n\n\nSpecial Instructions: \nThis will be a flag line only.\nBrief 1:45\nEstablish flag line for family arrival. Visitation 2-4\n\n\nFlags & Water:\nFlags will be provided\nLarge Bike Flags will NOT be needed.\nWater WILL NOT be provided\, please bring your own.\n\n\n\nSubmitted By: cw smith \nPosition: North Carolina Ride Captain \n\nNote: You do not have to own/ride a motorcycle or be a veteran to join\, and membership is Free. The only requirement is RESPECT! To subscribe to receive mission notices\, log into the National Site and click on the Members tab at the top. Select the Subscribe to PGR Missions option.\n Print This Page
URL:https://www.patriotguard.org/mission/william-patrick/
CATEGORIES:Honor Mission
END:VEVENT
END:VCALENDAR