BEGIN:VCALENDAR
VERSION:2.0
PRODID:-//Patriot Guard Riders - ECPv5.3.2.1//NONSGML v1.0//EN
CALSCALE:GREGORIAN
METHOD:PUBLISH
X-WR-CALNAME:Patriot Guard Riders
X-ORIGINAL-URL:https://www.patriotguard.org
X-WR-CALDESC:Events for Patriot Guard Riders
BEGIN:VTIMEZONE
TZID:America/New_York
BEGIN:DAYLIGHT
TZOFFSETFROM:-0500
TZOFFSETTO:-0400
TZNAME:EDT
DTSTART:20170312T070000
END:DAYLIGHT
BEGIN:STANDARD
TZOFFSETFROM:-0400
TZOFFSETTO:-0500
TZNAME:EST
DTSTART:20171105T060000
END:STANDARD
END:VTIMEZONE
BEGIN:VEVENT
DTSTART;TZID=America/New_York:20170829T100000
DTEND;TZID=America/New_York:20170829T120000
DTSTAMP:20210401T220608
CREATED:20170829T140000Z
LAST-MODIFIED:20191201T031821Z
UID:323411-1504000800-1504008000@www.patriotguard.org
SUMMARY:William P. Huffman\, Veteran\, USA - WWII
DESCRIPTION:William P. Huffman\, Veteran\nUSA  – WWII\nGrayson\, Kentucky – 29 Aug 2017\n\n\n[HR][/HR] \n\n\nABOUT THE MISSION: \n\nFINAL SERVICE\nAUGUST 29\, 2017\, GRAYSON\, KY \nWILLIAM P. HUFFMAN\, US ARMY \nWe have been invited by the family of William Paul Huffman\, 91\, US Army  veteran\, to stand in his honor. Mr. Huffman served during WWII and  received several citations and awards. It’s now our honor to stand for  him. The following arrangements have been made. \nFINAL SERVICE \nDAY/DATE: Tuesday\, 29 August 2017\nPLACE: Malone’s Funeral Home\, 325 Malone Lane\, Grayson\, KY 41143\nTIME: 11:00 am\nSTAGING AREA: McDonald’s\, 751 Carol Malone Blvd\, Grayson\, KY 41143\nSTAGING TIME: 10:00 am\nKSU: 10:15 am \nWe will be leaving Malone’s Funeral Home at 10:30 am enroute to the Kentucky Veteran’s Cemetery NE. \nPlease bring your 3’x5’ American flags\, arrive hydrated\, and dress according to the weather conditions. \nEd Hicks and Charlie French will be the Ride Captains for this mission.  If you have any questions\, please contact me at the number below. My  thanks to each of you. Take care and ride safely. \nTom Epperly\nSr. Ride Captain\nAss’t State Captain\nPatriot Guard Riders\nAshland\, KY\n606.571.9022 \nTom Folsom – Kentucky State Captain\nTom Epperly – Kentucky Ass’t State Captain\n\n\nPRIMARY STAGING DETAILS:  29 Aug 2017\nPrimary Staging Time: 10:00 A.M. \n\nMcDonalds\, 751 Carol Malone Blvd\nGrayson\, Kentucky – 41143\n\n\nRide Captain: \n\nEd Hicks and Charlie French\n\n\nSpecial Instructions: \n\nKSU at 10:15  am followed by KSU @ 10:30 from Malone’s Funeral Home with escort to the  KVCNE where an 11:00 am start time for a Final Service will begin.\n\n\nFlags & Water: \n\nFlags Will NOT Be Provided\, Please Bring Your Own.\nIf you have large bike flags\, please bring them.\nWater WILL NOT be provided\, please bring your own.\n\n\nSubmitted By: Thomas Epperly\nPosition: Assistant State Captain \n[HR][/HR]Note:\nYou do not have to own/ride a motorcycle or be a Veteran to join and membership is Free. The only requirement is RESPECT! To join\, simply go to www.PatriotGuard.org and click on Register. Membership is Free. \nTo subscribe to receive mission notices\, log into the National Site and click on the Mission Tab at the top. Select the Subscribe to Missions option.
URL:https://www.patriotguard.org/mission/william-p-huffman-veteran-usa-wwii/
END:VEVENT
END:VCALENDAR