BEGIN:VCALENDAR
VERSION:2.0
PRODID:-//Patriot Guard Riders - ECPv5.3.2.1//NONSGML v1.0//EN
CALSCALE:GREGORIAN
METHOD:PUBLISH
X-WR-CALNAME:Patriot Guard Riders
X-ORIGINAL-URL:https://www.patriotguard.org
X-WR-CALDESC:Events for Patriot Guard Riders
BEGIN:VTIMEZONE
TZID:America/New_York
BEGIN:DAYLIGHT
TZOFFSETFROM:-0500
TZOFFSETTO:-0400
TZNAME:EDT
DTSTART:20190310T070000
END:DAYLIGHT
BEGIN:STANDARD
TZOFFSETFROM:-0400
TZOFFSETTO:-0500
TZNAME:EST
DTSTART:20191103T060000
END:STANDARD
END:VTIMEZONE
BEGIN:VEVENT
DTSTART;VALUE=DATE:20190614
DTEND;VALUE=DATE:20190615
DTSTAMP:20210405T065047
CREATED:20190613T041840Z
LAST-MODIFIED:20190613T041840Z
UID:164658-1560470400-1560556799@www.patriotguard.org
SUMMARY:William Otis Brown
DESCRIPTION:Honor Mission\nWilliam Otis Brown\, Veteran\nUSA\, Korea\nThe Dalles\, Oregon – 06-14-19\n\n\n \n\nABOUT THE MISSION: \nLadies and Gentlemen of the Patriot Guard Riders. We have been requested to stand for William Otis Brown\, age 92. Mr Brown served seven years beginning on 26 September 1949 when he entered the service of the United States Army at Camp Hood\, Texas. Sergeant First Class Brown’s significant duty assignment was with Co A 81st Armored Recon Battalion. He received the Korean Service Medal and the U. N. Service Medal. Thank you for your service. It is our turn to stand for you.\n\n\nPRIMARY STAGING DETAILS: 06-14-19 \nStaging Time: 1:30 pm\n \nThree Mile Cemetery\n3368 Three Mile Road\nThe Dalles\, Oregon 97058\n\nMap\n\n\nRide Captain: \nRod Runyon\n541-993-6413\nreckless.1@hotmail.com\n\n\nSpecial Instructions: \nBriefing: 1:50pm\nFlag Line Set: 2:00pm\nService: 3:00pm\nDismissal: 3:30pm\n\nNote: Be aware of soft road conditions entering the cemetery for Motorcycles. The Care Taker says to be aware of soft road and pea gravel. The road has just recently been worked over. Bikes and Cages to be parked to the left of the Care Takers Buildings\n\n\nFlags & Water:\n\n\nFlags will not be provided\nIf you have large bike flags\, please bring them.\nWater WILL NOT be provided\, please bring your own.\n\n\nSubmitted By: John Hanan II \nPosition: Oregon State Captain \n\nNote: You do not have to own/ride a motorcycle or be a veteran to join\, and membership is Free. The only requirement is RESPECT! To subscribe to receive mission notices\, log into the National Site and click on the Members tab at the top. Select the Subscribe to PGR Missions option.\n Print This Page
URL:https://www.patriotguard.org/mission/william-otis-brown/
CATEGORIES:Honor Mission
END:VEVENT
END:VCALENDAR