BEGIN:VCALENDAR
VERSION:2.0
PRODID:-//Patriot Guard Riders - ECPv5.6.0//NONSGML v1.0//EN
CALSCALE:GREGORIAN
METHOD:PUBLISH
X-WR-CALNAME:Patriot Guard Riders
X-ORIGINAL-URL:https://www.patriotguard.org
X-WR-CALDESC:Events for Patriot Guard Riders
BEGIN:VTIMEZONE
TZID:America/New_York
BEGIN:DAYLIGHT
TZOFFSETFROM:-0500
TZOFFSETTO:-0400
TZNAME:EDT
DTSTART:20160313T070000
END:DAYLIGHT
BEGIN:STANDARD
TZOFFSETFROM:-0400
TZOFFSETTO:-0500
TZNAME:EST
DTSTART:20161106T060000
END:STANDARD
END:VTIMEZONE
BEGIN:VEVENT
DTSTART;TZID=America/New_York:20160713T090000
DTEND;TZID=America/New_York:20160713T110000
DTSTAMP:20210512T234705
CREATED:20160713T130000Z
LAST-MODIFIED:20191201T144416Z
UID:410667-1468400400-1468407600@www.patriotguard.org
SUMMARY:William Norman Zirger\, 68
DESCRIPTION:William Norman Zirger (68)\nUS Navy Veteran\nBiloxi\, MS\n13 July 2016\n\n\n\nWe are sad to report the death of US Navy Veteran William Norman Zirger (68). Mr Zirger served in the US Navy. \nMr. Hill received the National Defense Service Medal and the Vietnam Service Medal. \nThe family of Mr. Zirger has requested the Patriot Guard Riders help honor their hero. \nWe will provide flags for visitation from 12:45-1:15pm\, then escort to Biloxi National for 1:30 pm committal. \nSTAGING\nWednesday 13 July 2016\, 12:30 pm\nRiemann Family Funeral Home\n274 Beauvoir\nBiloxi\, MS \nESCORT\nBiloxi National Cemetery\nCommittal Shelter\n400 Veterans Ave\nBiloxi\,  MS \nRC\nSandie Schlett\nSr RC\n228-297-6720
URL:https://www.patriotguard.org/mission/william-norman-zirger-68/
END:VEVENT
END:VCALENDAR