BEGIN:VCALENDAR
VERSION:2.0
PRODID:-//Patriot Guard Riders - ECPv5.3.2.1//NONSGML v1.0//EN
CALSCALE:GREGORIAN
METHOD:PUBLISH
X-WR-CALNAME:Patriot Guard Riders
X-ORIGINAL-URL:https://www.patriotguard.org
X-WR-CALDESC:Events for Patriot Guard Riders
BEGIN:VTIMEZONE
TZID:America/New_York
BEGIN:DAYLIGHT
TZOFFSETFROM:-0500
TZOFFSETTO:-0400
TZNAME:EDT
DTSTART:20170312T070000
END:DAYLIGHT
BEGIN:STANDARD
TZOFFSETFROM:-0400
TZOFFSETTO:-0500
TZNAME:EST
DTSTART:20171105T060000
END:STANDARD
END:VTIMEZONE
BEGIN:VEVENT
DTSTART;TZID=America/New_York:20170413T064500
DTEND;TZID=America/New_York:20170413T084500
DTSTAMP:20210403T023018
CREATED:20170413T104500Z
LAST-MODIFIED:20191201T035816Z
UID:349478-1492065900-1492073100@www.patriotguard.org
SUMMARY:William Matthew Weinrich\, Active Duty\, USN - WoT\, MULTI-CITY\, MULTI-STATE - 13 Apr 2017*
DESCRIPTION:ET1(SW) William Matthew Weinrich\, Active Duty \nUSN – WoT \nVirginia Beach\, Virginia to Newton\, North Carolina – 13 Apr 2017\n\n[HR][/HR]\nABOUT THE MISSION: \nIt is with a heavy heart that we must inform you that we lost another Patriot. The Patriot Guard has been invited to stand for another of our nation’s dedicated service members. ET1 William M Weinrich\, 30 years old\, passed on 5 April 2017 from a non-combat injury while serving our nation. A memorial service celebrating his life will be conducted at 0930 hours. \nMission:  This will be a two part mission.  We will stand a flag line only at part one of the mission.  We will escort Petty Officer Weinrich from Virginia Beach\, VA to Newton\, NC. \nPart 2 of the mission will be an escort to Newton\, NC.  This will be approximately 7 hours long  We will ride t South Hill\, VA to meet with North Carolina Patriot Guard Riders.  Any Virginia riders wishing to terminate may do so here. \nPlease ensure you bring a photo ID with you.  Approximate duration is 3 hours for part one and approximate duration 7 hours for part two.\n\nYOU MUST ATTEND THE BRIEF TO PARTICIPATE IN THIS MISSION \nPRIMARY STAGING DETAILS: 13 Apr 2017 \n \nPrimary Staging Time: 0745 A.M.\n\nFood Lion Parking Lot\n5193 Shore Dr.\nVirginia Beach\, VA 23455\n\n\n\n\n\nRide Captain:\n\nDan (Fathertime) Raffensperger\, (757) 340-6255 – fathertime7@netzero.com\nRich (Roadrunner II) Fredley\, (757) 408-0933\, propmech1970@yahoo.com\nDavid Bozak\nRICE: Bill (AtSix) Johnson\, Sr. (757) 642-0747 – wmjhson@outlook.com\n\n \nSpecial Instructions:\n\n\nService at 0930 \nStage at 0745\nBrief at 0810\nKSU at 0820 \nPersonal Protection Equipment (PPE) is required during this mission: long sleeve shirt or jacket\, long pants\, full-fingered gloves\, DOT-Helmet\, sturdy\, over the ankle shoes/boots\, and eye protection. \nBase Security is very good to the PGR\, We will ride on as a group and ride off as a group. If you can not attend the entire mission\, you may consider standing down. Those DoD card holders who need to stay on Base after the mission must ride off with us and can reenter after the mission. \nNO WEAPONS ARE PERMITTED ON MILITARY INSTALLATIONS SPECIAL \nPlease monitor the weather and dress accordingly. \nPlease ensure all flags are rigged for highway speeds. Flag rigs will be checked at the staging area. \nChecking flags does not constitute approval of your mount. Riders are responsible for their flag mount. \nRide Protocol: Bikes and Trikes: – Large (3X5) Flags – Small(er) Flags – No Flags\nAutos: Same protocol as bikes \nNOTE: Safety is of our utmost priority. Every effort possible is made in planning and executing the PGR MISSION Statement in a manner that minimizes the inherit dangers of riding a motorcycle\, including riding in groups of all sizes and any situation. While the PGR and its riders have a remarkable safety record in the execution of our missions\, infrequently members have been injured in unforeseen accidents. In an effort to mitigate the risk of preventable accidents\, all attendees who wish to ride in a Patriot Guard motorcycle escort or Honor Mission are asked to attend the pre-mission briefing. It will include a safety briefing and any unique ride information known to our Ride Captain(s) that may be specific to the mission. Member safety and well-being is always a principal ongoing concern. Our Ride Captains are asked to stand down from any mission that cannot be accomplished in relative safety or unreasonable risk. This includes both rides and flag lines in inclement weather and other conditions. It remains each individual PGR member’s responsibility to ride within their own comfort zone and be cognizant of their surroundings and skill limitations as well as any physical needs or limitations. If the ride and/or mission conditions present challenges beyond your skill\, comfort\, or needs\, you are expected to exercise good judgment in foregoing any planned participation.\n\n\n \nFlags & Water:\n\nFlags Will Be Provided\n\nIf you have large bike flags\, please bring them.\n\nWater WILL NOT be provided\, please bring your own.\n\n\nSTAGING #2 DETAILS: 13 Apr 2017\n \n \nStaging #2 Time:  2:15 P.M. \n\nAltmeyer Funeral Home\n5792 Greenwich Road\nVirginia Beach\, VA 23462\n\n\n\n\n\nRide Captain:\n\nDan (Fathertime) Raffensperger\, (757) 340-6255 – fathertime7@netzero.com\nRich (Roadrunner II) Fredley\, (757) 408-0933\, propmech1970@yahoo.com\nDavid Bozak\nRICE: Bill (AtSix) Johnson\, Sr. (757) 642-0747 – wmjhson@outlook.com\n \n\n \n\nSpecial Instructions:\n\n\nStage at 1415\nBrief at 1430\nKSU at 1500 \nSee additional special instructions in Part 1.  \n\n\n \nFlags & Water:\n\nFlags Will Be Provided\n\nIf you have large bike flags\, please bring them.\n\nWater WILL NOT be provided\, please bring your own.\n\n\nSubmitted By: Wayne Anderson\nPosition: Assistant State Captain (VA) \n[HR][/HR]\nNote:\nYou do not have to own/ride a motorcycle or be a Veteran to join and membership is Free. The only requirement is RESPECT! To join\, simply go to www.PatriotGuard.org and click on Register. Membership is Free. \nTo subscribe to receive mission notices\, log into the National Site and click on the Mission Tab at the top. Select Upcoming Missions by State. Scroll to the state(s) you would like to receive notices for and click on the green check mark. Detailed instructions are also located in the FAQs on the site by clicking on the Quick Links Tab and selecting FAQs.
URL:https://www.patriotguard.org/mission/william-matthew-weinrich-active-duty-usn-wot-multi-city-multi-state-13-apr-2017/
END:VEVENT
END:VCALENDAR