BEGIN:VCALENDAR
VERSION:2.0
PRODID:-//Patriot Guard Riders - ECPv5.3.2.1//NONSGML v1.0//EN
CALSCALE:GREGORIAN
METHOD:PUBLISH
X-WR-CALNAME:Patriot Guard Riders
X-ORIGINAL-URL:https://www.patriotguard.org
X-WR-CALDESC:Events for Patriot Guard Riders
BEGIN:VTIMEZONE
TZID:America/New_York
BEGIN:DAYLIGHT
TZOFFSETFROM:-0500
TZOFFSETTO:-0400
TZNAME:EDT
DTSTART:20190310T070000
END:DAYLIGHT
BEGIN:STANDARD
TZOFFSETFROM:-0400
TZOFFSETTO:-0500
TZNAME:EST
DTSTART:20191103T060000
END:STANDARD
END:VTIMEZONE
BEGIN:VEVENT
DTSTART;VALUE=DATE:20190802
DTEND;VALUE=DATE:20190803
DTSTAMP:20210402T110537
CREATED:20190731T123155Z
LAST-MODIFIED:20190731T123155Z
UID:169208-1564704000-1564790399@www.patriotguard.org
SUMMARY:William Macky Holley
DESCRIPTION:Honor Mission\nWilliam Macky Holley\, Veteran\nUSA – Vietnam\nDallas\, Texas – 08-02-19\n\n\n\nABOUT THE MISSION: \nInurnment Service. Mr. Holley honorably served in the US Army (Company C/1st Battalion/41st Infantry/2nd Armored Division) from May 1966 to May 1968.\n\n\nPRIMARY STAGING DETAILS: 08-02-19 \nStaging Time: 1:15 PM\n \nDFW National Cemetery\n2000 Mountain Creek Pkwy\nDallas\, Texas 75211\n\n\nRide Captain: \nRick Elliott\nrick.elliott@yahoo.com\n(214) 356-7535\n\n\nSpecial Instructions: \nStaging Time: 1:15\nBriefing Time: 1:30\nIn Position/KSU Time: 1:45\nStarting Time: 2:00\nRiders will stage at DFWNC visitor center for briefing. Honor Flag bikes will be assigned and moved to the staging lanes. Remaining riders will proceed to the assigned shelter to prepare the Flag Line and await the arrival of the procession. After the service\, Flags will be returned to the shelter\, furled and stored.\n\n\nFlags & Water:\nFlags will be provided\nIf you have large bike flags\, please bring them.\nWater WILL NOT be provided\, please bring your own.\n\n\n\nSubmitted By: Dan Mathys \nPosition: Texas Ride Captain \n\nNote: You do not have to own/ride a motorcycle or be a veteran to join\, and membership is Free. The only requirement is RESPECT! To subscribe to receive mission notices\, log into the National Site and click on the Members tab at the top. Select the Subscribe to PGR Missions option.\n Print This Page
URL:https://www.patriotguard.org/mission/william-macky-holley/
CATEGORIES:Honor Mission
END:VEVENT
END:VCALENDAR