BEGIN:VCALENDAR
VERSION:2.0
PRODID:-//Patriot Guard Riders - ECPv5.3.2.1//NONSGML v1.0//EN
CALSCALE:GREGORIAN
METHOD:PUBLISH
X-WR-CALNAME:Patriot Guard Riders
X-ORIGINAL-URL:https://www.patriotguard.org
X-WR-CALDESC:Events for Patriot Guard Riders
BEGIN:VTIMEZONE
TZID:America/New_York
BEGIN:DAYLIGHT
TZOFFSETFROM:-0500
TZOFFSETTO:-0400
TZNAME:EDT
DTSTART:20180311T070000
END:DAYLIGHT
BEGIN:STANDARD
TZOFFSETFROM:-0400
TZOFFSETTO:-0500
TZNAME:EST
DTSTART:20181104T060000
END:STANDARD
END:VTIMEZONE
BEGIN:VEVENT
DTSTART;TZID=America/New_York:20180423T084500
DTEND;TZID=America/New_York:20180423T104500
DTSTAMP:20210404T200530
CREATED:20180423T124500Z
LAST-MODIFIED:20200802T162656Z
UID:333451-1524473100-1524480300@www.patriotguard.org
SUMMARY:William Lovato\, Retired\, USN
DESCRIPTION:Honor Mission\nWilliam Lovato\, Retired\nUSN\nAlbuquerque\, New Mexico – 23 Apr 2018\n\n\nABOUT THE MISSION: \nThe Patriot Guard Riders have been invited to honor CPO (R) William Lovato. William is veteran of the U.S. Navy. He served his country with pride and honor.\nPRIMARY STAGING DETAILS: 23 Apr 2018\nPrimary Staging Time: 08:45 A.M. \nDaniels Family Funeral Services\n7601 Wyoming Blvd NE\nAlbuquerque\, New Mexico – 87109\nRide Captain: \nBilly “Bam Bam” Crain\nbdcrain50@gmail.com\n505-263-8771\n\nSpecial Instructions: \nBriefing: 09:15 am\nFlag Line: 09:30 am\nKSU: 1:30 p.m. to Santa Fe National Cemetery\nFlag Line: 3:00 p.m. establish Flag Line\, interment\nWeather: 51°/78°\, Mostly sunny\, SSW 9 mph\, Precipitation: 0%Assisting: Dan Rambow\, 505-235-8589\, dan4804@yahoo.com \n\nFlags & Water: \nFlags Will Be Provided\nLarge Bike Flags will NOT be needed.\nWater will be provided.\n  \n\nSubmitted By: Billy Crain\nPosition: Assistant State Captain \n\nNote:\nYou do not have to own/ride a motorcycle or be a Veteran to join and membership is Free. The only requirement is RESPECT! To join\, simply go to www.PatriotGuard.org and click on Register. Membership is Free. \nTo subscribe to receive mission notices\, log into the National Site and click on the Mission Tab at the top. Select the Subscribe to Missions option.
URL:https://www.patriotguard.org/mission/william-lovato-retired-usn/
LOCATION:Tom Johnson
CATEGORIES:Honor Mission
END:VEVENT
END:VCALENDAR