BEGIN:VCALENDAR
VERSION:2.0
PRODID:-//Patriot Guard Riders - ECPv5.6.0//NONSGML v1.0//EN
CALSCALE:GREGORIAN
METHOD:PUBLISH
X-WR-CALNAME:Patriot Guard Riders
X-ORIGINAL-URL:https://www.patriotguard.org
X-WR-CALDESC:Events for Patriot Guard Riders
BEGIN:VTIMEZONE
TZID:America/New_York
BEGIN:DAYLIGHT
TZOFFSETFROM:-0500
TZOFFSETTO:-0400
TZNAME:EDT
DTSTART:20160313T070000
END:DAYLIGHT
BEGIN:STANDARD
TZOFFSETFROM:-0400
TZOFFSETTO:-0500
TZNAME:EST
DTSTART:20161106T060000
END:STANDARD
END:VTIMEZONE
BEGIN:VEVENT
DTSTART;TZID=America/New_York:20160811T090000
DTEND;TZID=America/New_York:20160811T110000
DTSTAMP:20210512T040843
CREATED:20160811T130000Z
LAST-MODIFIED:20191201T143711Z
UID:410014-1470906000-1470913200@www.patriotguard.org
SUMMARY:William Lawrence Shearin\, USA
DESCRIPTION:Fellow Patriots\, \nWe have been invited to stand for US Army SP4 William Lawrence Shearin as he stood for us. SP4 Shearin was part of the 272nd MP Battalion and served 2 tours of duty in Vietnam (1969-1970).This will be a flag line mission only and we will stand down when the service begins at 3:00 PM. Details follow: \nDate: Thursday\, August 11\, 2016 \nLocation:  Hockaday Funeral Home\n507 U.S. 158\nRoanoke Rapids\, NC 27870 \nhttp://goo.gl/IbeiIV \nStaging:   1:30 PM\nBriefing:   1:45 PM We will stand the flag line immediately following the briefing \nLink for Directions:  http://goo.gl/IbeiIV \nLink for Obituary: http://www.hockadayfs.com/index.php/obituaries/item/881-william-billy-lawrence-shearin.html \nRC:  Charles Bullock\n919-906-3641 \nSPECIAL NOTE: Safety is of our utmost priority. Every effort possible is made in planning and executing the PGR Mission statement in a manner that minimizes the inherit dangers of riding a motorcycle\, including riding in groups of all sizes and any situation. While the NCPG and its riders have a remarkable safety record in the execution of our missions\, infrequently members have been injured in unforeseen accidents. In an effort to mitigate the risk of preventable accidents\, all attendees who wish to ride in a Patriot Guard motorcycle escort or ride are asked to attend the pre-mission briefing. It will include a safety briefing\, and any unique ride information known to our RCIC that may be specific to the mission. Member safety and well-being is always a principal ongoing concern. Our RCIC’s are asked to stand-down from any mission that cannot be accomplished in relative safety or present unreasonable risk. This includes both rides and flag lines in inclement weather and conditions. It remains each individual PGR member’s responsibility to ride within their own comfort zone and be cognizant of their surroundings and skill limitations as well as any physical needs or limitations. If the ride and/or mission conditions present challenges beyond your skill\, comfort\, or needs you are expected to exercise good judgment in foregoing any planned participation.
URL:https://www.patriotguard.org/mission/william-lawrence-shearin-usa/
CATEGORIES:Archive
END:VEVENT
END:VCALENDAR