BEGIN:VCALENDAR
VERSION:2.0
PRODID:-//Patriot Guard Riders - ECPv5.3.2.1//NONSGML v1.0//EN
CALSCALE:GREGORIAN
METHOD:PUBLISH
X-WR-CALNAME:Patriot Guard Riders
X-ORIGINAL-URL:https://www.patriotguard.org
X-WR-CALDESC:Events for Patriot Guard Riders
BEGIN:VTIMEZONE
TZID:America/New_York
BEGIN:DAYLIGHT
TZOFFSETFROM:-0500
TZOFFSETTO:-0400
TZNAME:EDT
DTSTART:20190310T070000
END:DAYLIGHT
BEGIN:STANDARD
TZOFFSETFROM:-0400
TZOFFSETTO:-0500
TZNAME:EST
DTSTART:20191103T060000
END:STANDARD
END:VTIMEZONE
BEGIN:VEVENT
DTSTART;VALUE=DATE:20190624
DTEND;VALUE=DATE:20190625
DTSTAMP:20210405T051120
CREATED:20190623T010055Z
LAST-MODIFIED:20190623T010055Z
UID:165524-1561334400-1561420799@www.patriotguard.org
SUMMARY:William Krainock
DESCRIPTION:Honor Mission\nWilliam Krainock\, Retired\nUSN \, USNR – Vietnam\nMarana\, Arizona – 06-24-19\n\n\n\n\nABOUT THE MISSION: \nWilliam “Kilowatt” Krainock was born into the Krainock family of New Jersey\, one of three children on 17 September 1942.In 1962 at nineteen years of age\, William Krainock heard the calling and joined the United States Naval Reserve and then transferred to the United States Navy. Chief Petty Officer Krainock served this great nation we live in for a total of twenty years honorably before retiring in 1988.\n\nSome of Chief Petty Officer Krainocks decorations are as follows: RVN Armed Forces MUC (Gallantry Cross) RVN Armed Forces MUC (Civil Action Medal) Vietnam Service Medal Vietnam Campaign Medal\nChief Petty Officer Krainock passed on 8 June 2019 at seventy six years of age.\n\n\nPRIMARY STAGING DETAILS: 06-24-19 \nStaging Time: 10:00 am\n \nR & R Pizza parking lot1\n3905 N. Sandario Road\nMarana\, Arizona 85653\n\n\nRide Captain: \nRide Captain: Stacker\n520-400-0895\nFlag Captain: Big G 520-403-4167\n\n\nSubmitted By: Robi Campbell \nPosition: Arizona Assistant State Captain \n\nNote: You do not have to own/ride a motorcycle or be a veteran to join\, and membership is Free. The only requirement is RESPECT! To subscribe to receive mission notices\, log into the National Site and click on the Members tab at the top. Select the Subscribe to PGR Missions option.\n Print This Page
URL:https://www.patriotguard.org/mission/william-krainock/
CATEGORIES:Honor Mission
END:VEVENT
END:VCALENDAR