BEGIN:VCALENDAR
VERSION:2.0
PRODID:-//Patriot Guard Riders - ECPv5.6.0//NONSGML v1.0//EN
CALSCALE:GREGORIAN
METHOD:PUBLISH
X-WR-CALNAME:Patriot Guard Riders
X-ORIGINAL-URL:https://www.patriotguard.org
X-WR-CALDESC:Events for Patriot Guard Riders
BEGIN:VTIMEZONE
TZID:America/New_York
BEGIN:DAYLIGHT
TZOFFSETFROM:-0500
TZOFFSETTO:-0400
TZNAME:EDT
DTSTART:20160313T070000
END:DAYLIGHT
BEGIN:STANDARD
TZOFFSETFROM:-0400
TZOFFSETTO:-0500
TZNAME:EST
DTSTART:20161106T060000
END:STANDARD
END:VTIMEZONE
BEGIN:VEVENT
DTSTART;TZID=America/New_York:20160628T090000
DTEND;TZID=America/New_York:20160628T110000
DTSTAMP:20210512T222826
CREATED:20160628T130000Z
LAST-MODIFIED:20191201T144801Z
UID:411012-1467104400-1467111600@www.patriotguard.org
SUMMARY:William Kirby\, Jr.\, USMC
DESCRIPTION:The Patriot Guard Riders have been invited to stand in honor of William ‘Abe Lincoln’ Kirby\, Jr.\, USMC Viet Nam Veteran at his Inurnment Service scheduled for Tuesday\, 28 June at 2:00 PM at Brush Memorial Cemetery 1100 Mill St Brush CO 80723. \nMr. Kirby was born in Arlington\, VA in 1947 and passed June 22 in Greeley. He joined the Marine Corps in 1966 and served with the Motor Transport Division in Viet Nam. After his Honorable Discharge in 1972 he worked for BNRR. Mr. Kirby and his family moved to Brush in 1977 where he owned and operated the Honey Bun Bakery in the late 80s and early 90’s. He is survived by his 3 children and 7 grandchildren. \n1:15 PM Stage at the Cemetery\n1:30 PM Mission Briefing\n1:45 PM Set Flag Line at grave site \nJay Weisgerber will serve as Ride Captain and will bring Flags. \n—\nKathy ‘Rat’ Goldstein\nColorado State Captain\n720-244-0594
URL:https://www.patriotguard.org/mission/william-kirby-jr-usmc/
CATEGORIES:Archive
END:VEVENT
END:VCALENDAR