BEGIN:VCALENDAR
VERSION:2.0
PRODID:-//Patriot Guard Riders - ECPv5.3.2.1//NONSGML v1.0//EN
CALSCALE:GREGORIAN
METHOD:PUBLISH
X-WR-CALNAME:Patriot Guard Riders
X-ORIGINAL-URL:https://www.patriotguard.org
X-WR-CALDESC:Events for Patriot Guard Riders
BEGIN:VTIMEZONE
TZID:America/New_York
BEGIN:DAYLIGHT
TZOFFSETFROM:-0500
TZOFFSETTO:-0400
TZNAME:EDT
DTSTART:20190310T070000
END:DAYLIGHT
BEGIN:STANDARD
TZOFFSETFROM:-0400
TZOFFSETTO:-0500
TZNAME:EST
DTSTART:20191103T060000
END:STANDARD
END:VTIMEZONE
BEGIN:VEVENT
DTSTART;VALUE=DATE:20190927
DTEND;VALUE=DATE:20190928
DTSTAMP:20210401T083103
CREATED:20190923T142948Z
LAST-MODIFIED:20190923T142948Z
UID:176061-1569542400-1569628799@www.patriotguard.org
SUMMARY:William Keith Anderson
DESCRIPTION:Honor Mission\nWilliam Keith Anderson\, Retired\nUSN – Vietnam\nMaple Valley\, Washington – 09-27-19\n\n\n \n\nABOUT THE MISSION: \nWe have once again been requested by family members to stand a flag line to honor Command Master Chief\, William Keith Anderson\, Jr. U.S. Navy\, at his Military Honors. CMC Anderson served our country honorably from 16 November 1969 to 01 August 1999.He was awarded many medals\, commendations and awards including\, Good Conduct Medal (2)\, Meritorious Service Medal\, Navy and Marine Corps Commendation Medal (4)\, Navy and Marine Corps Achievement Medal (3) w/Combat V\, Combat Action Ribbon\, Navy Unit Commendation Ribbon (2)\, Navy Meritorious Unit Commendation\, Navy Good Conduct Medal (6)\, Naval Reserve Meritorious Service Medal\, National Defense Service Medal (2)\, Vietnam Service Medal (4)\, Navy and Marine Corps Sea Service Deployment Ribbon (3)\, Armed Forces Reserve Medal (3)\, Rep. of Vietnam Meritorious Unit Citation (Gallantry Cross)\, Rep of Vietnam Campaign Medal\, Navy Rifle Marksmanship Medal (Expert)\, Navy Pistol Marksmanship Medal (Expert)\, Combat Action Ribbon\, Vietnam Service Medal/Ribbon With One Bronze Star\, Vietnam Campaign Medal/Ribbon With Device.After his Navy retirement Bill was employed by the Navy as an Oceanographer.Bill was the father of three. He loved his Harleys and traveling.\n\n\nPRIMARY STAGING DETAILS: 09-27-19 \nStaging Time: 1:30 pm\n \nMcDonald’s\n23225 Maple Valley Hwy\nMaple Valley\, Washington 98038\n\n\nRide Captain: \nLyall “Joker” Smith\nlyalls@aol.com\n360-791-4639 S\n\n\nSpecial Instructions: \n11:15 am RC’s & SV Arrive\n11:30 am Riders arrive – filled\, drained & sign-in\n12:00 pm Mission / Safety Brief1215 Proceed to service location\n12:30 pm Set up Flag line\n1:00 Service Begins\nEnd of Service: Flag line fades away to SV for debrief\n\nFlags & Water:\nFlags will be provided\nLarge Bike Flags will NOT be needed.\nWater will be provided.\n\n\n\nSubmitted By: Lyall Smith \nPosition: Washington Ride Captain \n\nNote: You do not have to own/ride a motorcycle or be a veteran to join\, and membership is Free. The only requirement is RESPECT! To subscribe to receive mission notices\, log into the National Site and click on the Members tab at the top. Select the Subscribe to PGR Missions option.\n Print This Page
URL:https://www.patriotguard.org/mission/william-keith-anderson/
CATEGORIES:Honor Mission
END:VEVENT
END:VCALENDAR