BEGIN:VCALENDAR
VERSION:2.0
PRODID:-//Patriot Guard Riders - ECPv5.3.2.1//NONSGML v1.0//EN
CALSCALE:GREGORIAN
METHOD:PUBLISH
X-WR-CALNAME:Patriot Guard Riders
X-ORIGINAL-URL:https://www.patriotguard.org
X-WR-CALDESC:Events for Patriot Guard Riders
BEGIN:VTIMEZONE
TZID:America/New_York
BEGIN:DAYLIGHT
TZOFFSETFROM:-0500
TZOFFSETTO:-0400
TZNAME:EDT
DTSTART:20190310T070000
END:DAYLIGHT
BEGIN:STANDARD
TZOFFSETFROM:-0400
TZOFFSETTO:-0500
TZNAME:EST
DTSTART:20191103T060000
END:STANDARD
END:VTIMEZONE
BEGIN:VEVENT
DTSTART;VALUE=DATE:20190712
DTEND;VALUE=DATE:20190713
DTSTAMP:20210404T042511
CREATED:20190711T201814Z
LAST-MODIFIED:20190711T201814Z
UID:167388-1562889600-1562975999@www.patriotguard.org
SUMMARY:William John Bell Jr.
DESCRIPTION:Honor Mission\nWilliam John Bell Jr.\nUSN – Korea\, Vietnam\nSarasota\, Florida – 07-12-19\n\n\nABOUT THE MISSION:\n\nWilliam John Bell Jr. served in the United States Navy at the tail end of the Korean War and the Vietnam war. He was wounded aboard ship during the Vietnam War and was accredited with savings some US Marines lives according to his daughter. She has requested the Patriot Guard Riders presence as she pays final respect to her father. She and her son will be the only family present.\nPlease bring your 3 X 5 American flags and stand in honor and respect for our Veteran hero and his family.\n\n\nPRIMARY STAGING DETAILS: 07-12-19 \nStaging Time: 2:30 PM\n \nSarasota National Cemetery\n9810 SR 72\nSarasota\, Florida 34241\nMap\n\n\nRide Captain: \nBill Franklin\n941-350-2547\ngulfrader@comcast.net\n\n\nSpecial Instructions: \nStage 2:30 PM\nBrief 2:45 PM\nService 3:00 PM\n\n\nFlags & Water:\nFlags will not be provided.\nIf you have large bike flags\, please bring them.\nWater WILL NOT be provided\, please bring your own.\n\n\n\nSubmitted By: William Franklin \nPosition: Florida Ride Captain \n\nNote: You do not have to own/ride a motorcycle or be a veteran to join\, and membership is Free. The only requirement is RESPECT! To subscribe to receive mission notices\, log into the National Site and click on the Members tab at the top. Select the Subscribe to PGR Missions option.\n Print This Page
URL:https://www.patriotguard.org/mission/william-john-bell-jr/
CATEGORIES:Honor Mission
END:VEVENT
END:VCALENDAR