BEGIN:VCALENDAR
VERSION:2.0
PRODID:-//Patriot Guard Riders - ECPv5.3.2.1//NONSGML v1.0//EN
CALSCALE:GREGORIAN
METHOD:PUBLISH
X-WR-CALNAME:Patriot Guard Riders
X-ORIGINAL-URL:https://www.patriotguard.org
X-WR-CALDESC:Events for Patriot Guard Riders
BEGIN:VTIMEZONE
TZID:America/New_York
BEGIN:DAYLIGHT
TZOFFSETFROM:-0500
TZOFFSETTO:-0400
TZNAME:EDT
DTSTART:20190310T070000
END:DAYLIGHT
BEGIN:STANDARD
TZOFFSETFROM:-0400
TZOFFSETTO:-0500
TZNAME:EST
DTSTART:20191103T060000
END:STANDARD
END:VTIMEZONE
BEGIN:VEVENT
DTSTART;TZID=America/New_York:20190416T000000
DTEND;TZID=America/New_York:20190417T000000
DTSTAMP:20210405T193315
CREATED:20190414T193702Z
LAST-MODIFIED:20190414T193702Z
UID:157273-1555372800-1555459200@www.patriotguard.org
SUMMARY:William J. Schrandt
DESCRIPTION:Honor Mission\nWilliam J. Schrandt\, Veteran\nUSA – Vietnam\nLeavenworth\, Kansas – 04-16-19\n\n\n\n\nABOUT THE MISSION: \nWilliam J. Schrandt served in the United States Army for twenty three years\, nine months and twenty seven days. He was a Vietnam veteran. He was awarded the Bronze Star Medal; the Defense Meritorious Service Medal; the Meritorious Service Medal\, 4th Award; the Army Achievement Medal; the National Defense Service Medal\, 2d Award; the Vietnam Service Medal w/4service Stars; the Army Service Ribbon; the Overseas Service Ribbon; the Republic of Vietnam Gallantry Cross Unit Citation; and the Republic of Vietnam Campaign Medal.\n\n\nPRIMARY STAGING DETAILS: 04-16-19 \nStaging Time: 5:30 p.m.  \nR. L. Leintz Funeral Home\n4701 10th Avenue\nLeavenworth\, Kansas 66048\n\n\nRide Captain: \nRon “Grumpy” Wurtele\nrwurtele@kc.rr.com\n(913) 683-4652\n\n\nSpecial Instructions: \nRider brief at 5:30 P.M. and stand flag line for visitation from 6:00 P.M. until 7:00 P.M.\n\n\nFlags & Water:\nFlags will be provided\nLarge Bike Flags will NOT be needed.\nWater WILL NOT be provided\, please bring your own.\n\nSTAGING #2 DETAILS: 04-17-19 \nStaging Time: 9:30 a.m.  \nR. L. Leintz Funeral Home\n4701 10th Avenue\nLeavenworth\, Kansas 66048\n\n\nRide Captain: \nRon “Grumpy” Wurtele\nrwurtele@kc.rr.com\n(913) 683-4652\n\n\nSpecial Instructions: \nRiders will depart the funeral home at 9:30 A.M. and escort to St. Francis de Sales Church for 10:00 A. M. funeral mass. When mass is completed\, will escort to Mount Calvary Cemetery for burial.\n\n\nFlags & Water:\nFlags will be provided\nIf you have large bike flags\, please bring them.\nWater WILL NOT be provided\, please bring your own.\n\n\nSubmitted By: Ronald Wurtele \nPosition: Kansas Ride Captain \n\nNote: You do not have to own/ride a motorcycle or be a veteran to join\, and membership is Free. The only requirement is RESPECT! To subscribe to receive mission notices\, log into the National Site and click on the Members tab at the top. Select the Subscribe to PGR Missions option.\n Print This Page
URL:https://www.patriotguard.org/mission/william-j-schrandt/
CATEGORIES:Honor Mission
END:VEVENT
END:VCALENDAR