BEGIN:VCALENDAR
VERSION:2.0
PRODID:-//Patriot Guard Riders - ECPv5.6.0//NONSGML v1.0//EN
CALSCALE:GREGORIAN
METHOD:PUBLISH
X-WR-CALNAME:Patriot Guard Riders
X-ORIGINAL-URL:https://www.patriotguard.org
X-WR-CALDESC:Events for Patriot Guard Riders
BEGIN:VTIMEZONE
TZID:America/New_York
BEGIN:DAYLIGHT
TZOFFSETFROM:-0500
TZOFFSETTO:-0400
TZNAME:EDT
DTSTART:20160313T070000
END:DAYLIGHT
BEGIN:STANDARD
TZOFFSETFROM:-0400
TZOFFSETTO:-0500
TZNAME:EST
DTSTART:20161106T060000
END:STANDARD
END:VTIMEZONE
BEGIN:VEVENT
DTSTART;TZID=America/New_York:20160718T090000
DTEND;TZID=America/New_York:20160718T110000
DTSTAMP:20210512T122309
CREATED:20160718T130000Z
LAST-MODIFIED:20191201T144301Z
UID:410551-1468832400-1468839600@www.patriotguard.org
SUMMARY:William J. Patton\, USA
DESCRIPTION:The  family of Pfc (T). William Junior Patton requested that we stand tall  and silent in a flag line of respect and honor prior to the services for  their loved one.  It will be our privilege and honor to do so.\n \n During his nearly 7 years of service to our country Hero Patton earned and was awarded The National Defense Service Medal. \n Please  join me in standing tall\, silent and respectful in a flag line of honor  for this American Warrior.  Stand down Sir; your watch here has been  completed.  Your next duty station will be to patrol the streets  of Heaven.   \n We  come to thank you and honor you for your service to our nation.  Your  service allows us the freedoms we enjoy today.  You will never be  forgotten.   \n\nStaging: \nMonday 18 JUL 16\n1200 HRS (Noon)\n\nJB Smith Funeral Home\n777 Oakwood (at 141)\nFenton\, MO  63026\n\nEscort:\nAt  the conclusion of the funeral services we will escort our hero and his  family to the cemetery at Sacred Heart Catholic Church in Valley Park\,  MO\n\nWeather: \nCurrent forecasts calls for hot and humid\, 95* with 20% chance of showers. Ride safe\, ride defensively.  Cages welcome!\n\nOVER-HYDRATE the night before as well as the morning of this mission.  Coffee is not hydration! \nRide Captain:\nRick “Curly” Kroeger\nrickkroeger@hotmail.com\n314.954.3060\n\nFlag Support:\nDenny “Dutchman” Eads
URL:https://www.patriotguard.org/mission/william-j-patton-usa/
CATEGORIES:Archive
END:VEVENT
END:VCALENDAR