BEGIN:VCALENDAR
VERSION:2.0
PRODID:-//Patriot Guard Riders - ECPv5.3.2.1//NONSGML v1.0//EN
CALSCALE:GREGORIAN
METHOD:PUBLISH
X-WR-CALNAME:Patriot Guard Riders
X-ORIGINAL-URL:https://www.patriotguard.org
X-WR-CALDESC:Events for Patriot Guard Riders
BEGIN:VTIMEZONE
TZID:America/New_York
BEGIN:DAYLIGHT
TZOFFSETFROM:-0500
TZOFFSETTO:-0400
TZNAME:EDT
DTSTART:20170312T070000
END:DAYLIGHT
BEGIN:STANDARD
TZOFFSETFROM:-0400
TZOFFSETTO:-0500
TZNAME:EST
DTSTART:20171105T060000
END:STANDARD
END:VTIMEZONE
BEGIN:VEVENT
DTSTART;TZID=America/New_York:20170829T091500
DTEND;TZID=America/New_York:20170829T111500
DTSTAMP:20210405T235038
CREATED:20170829T131500Z
LAST-MODIFIED:20191201T030746Z
UID:312173-1503998100-1504005300@www.patriotguard.org
SUMMARY:William J Gallegher\, Veteran\, USA - Lebanon/Grenada\, Panama
DESCRIPTION:William J Gallegher\, Veteran\nUSA  – Lebanon/Grenada\, Panama\nGrand Junction\, Colorado – 29 Aug 2017\n\n\n[HR][/HR]\nABOUT THE MISSION: \n\nPersian Gulf\nPlease join us as we stand a flag line and pay a silent tribute to this fallen hero.\n\n\nPRIMARY STAGING DETAILS:  29 Aug 2017\nPrimary Staging Time: 09:15 A.M. \n\nShelter Area \nVeterans Memorial Cemetery\n2830 Riverside Parkway\nGrand Junction\, Colorado – 81501\n\n\nRide Captain: \n\nTim Himes \nArt (groady) Edwards \n\nSpecial Instructions:\n\nFlags & Water: \n\nFlags Will Be Provided\nLarge Bike Flags will NOT be needed.\nWater will be provided.\n\n\nSubmitted By: Arthur Edwards\nPosition: Assistant State Captain\n[HR][/HR]Note:\nYou do not have to own/ride a motorcycle or be a Veteran to join and membership is Free. The only requirement is RESPECT! To join\, simply go to www.PatriotGuard.org and click on Register. Membership is Free. \nTo subscribe to receive mission notices\, log into the National Site and click on the Mission Tab at the top. Select the Subscribe to Missions option.
URL:https://www.patriotguard.org/mission/william-j-gallegher-veteran-usa-lebanon-grenada-panama/
END:VEVENT
END:VCALENDAR