BEGIN:VCALENDAR
VERSION:2.0
PRODID:-//Patriot Guard Riders - ECPv5.6.0//NONSGML v1.0//EN
CALSCALE:GREGORIAN
METHOD:PUBLISH
X-WR-CALNAME:Patriot Guard Riders
X-ORIGINAL-URL:https://www.patriotguard.org
X-WR-CALDESC:Events for Patriot Guard Riders
BEGIN:VTIMEZONE
TZID:America/New_York
BEGIN:DAYLIGHT
TZOFFSETFROM:-0500
TZOFFSETTO:-0400
TZNAME:EDT
DTSTART:20160313T070000
END:DAYLIGHT
BEGIN:STANDARD
TZOFFSETFROM:-0400
TZOFFSETTO:-0500
TZNAME:EST
DTSTART:20161106T060000
END:STANDARD
END:VTIMEZONE
BEGIN:VEVENT
DTSTART;TZID=America/New_York:20160806T090000
DTEND;TZID=America/New_York:20160806T110000
DTSTAMP:20210512T030050
CREATED:20160806T130000Z
LAST-MODIFIED:20191201T143809Z
UID:410105-1470474000-1470481200@www.patriotguard.org
SUMMARY:William Hughes\, USA\, WWII / Mayfield
DESCRIPTION:William Hughes\nUS Army WWII Veteran\nPaducah KY\n6 Aug 2016\n\n\n\nThe Patriot Guard has been ask by the Family to Honor the Life of William O. Hughes U.S. Army WWII Veteran and we will be Honored to do so! We will be doing a Flag Line at the Funeral Home and an Escort to the Cemetery. The Funeral will be at Lindsey Funeral Home 224 North 4th St in Paducah this Sat at Aug. 6th with the Funeral at 2:00 PM with an escort to follow. \nSat Aug 6th\nStaging:\nPocket Shell\n1009 Paris Rd.\nMayfield\, KY \nStaging: 11:45 \nKSU: 12:00 \nOr meet at the Funeral Home at 12:40\n226 N. 4th. St\nPaducah\, KY \nSRC\nDan Bondurant\n270-705-0307
URL:https://www.patriotguard.org/mission/william-hughes-usa-wwii-mayfield/
CATEGORIES:Archive
END:VEVENT
END:VCALENDAR