BEGIN:VCALENDAR
VERSION:2.0
PRODID:-//Patriot Guard Riders - ECPv5.3.2.1//NONSGML v1.0//EN
CALSCALE:GREGORIAN
METHOD:PUBLISH
X-WR-CALNAME:Patriot Guard Riders
X-ORIGINAL-URL:https://www.patriotguard.org
X-WR-CALDESC:Events for Patriot Guard Riders
BEGIN:VTIMEZONE
TZID:America/New_York
BEGIN:DAYLIGHT
TZOFFSETFROM:-0500
TZOFFSETTO:-0400
TZNAME:EDT
DTSTART:20190310T070000
END:DAYLIGHT
BEGIN:STANDARD
TZOFFSETFROM:-0400
TZOFFSETTO:-0500
TZNAME:EST
DTSTART:20191103T060000
END:STANDARD
END:VTIMEZONE
BEGIN:VEVENT
DTSTART;VALUE=DATE:20190921
DTEND;VALUE=DATE:20190922
DTSTAMP:20210401T082550
CREATED:20190916T120122Z
LAST-MODIFIED:20190916T120122Z
UID:174200-1569024000-1569110399@www.patriotguard.org
SUMMARY:William Hoyt McClung
DESCRIPTION:Honor Mission\nWilliam Hoyt McClung\, Veteran\nUSA \, USAR –  WWII\, Korea\nSebastian\, Florida  09-21-19\n\n\n\n\nABOUT THE MISSION: \nThe family of Sgt McClung\, 95\, has requested the Patriot Guard Riders presence as they show their final respects. Our hero will be laid to rest at a later date in Arlington National Cemetery. William faithfully served his Country in the U.S. Army/Reserves and performed duties as an Automotive Engine Re-builder. Upon completion of his service\, William received an Honorable Discharge. Please bring your 3 X 5 American flags and stand in honor and respect for our hero and his family.\n\n\nPRIMARY STAGING DETAILS: 09-21-19 \nStaging Time: 9:30 AM  \nVFW Post 10210 (Side parking lot)\n815 Louisiana Ave\nSebastian\, Florida 323958\nhttp://tinyurl.com/y6ecsvvb\n\n\nRide Captain: \nKen “Patriot” Barnett\npatriotusa28@gmail.com\n561-753-8894\n\n\nSpecial Instructions: \nThis is an escort for family members to Riverside Church on Roseland Road. Large Flag Bikes are requested. There is a possibility this will be a LEO escort.\n\n09:45 AM – Brief\n10:00 AM – KSU for the church.\n\n\nFlags & Water:\nFlags will not be provided\nIf you have large bike flags\, please bring them.\nWater WILL NOT be provided\, please bring your own.\n\nSTAGING #2 DETAILS: 09-21-19 \nStaging Time: 10:15 AM  \nRiverside Church\n11205 Roseland Road\nSebastian\, Florida 323958\nhttp://tinyurl.com/yxawpj96\n\n\nRide Captain: \n\nKen “Patriot” Barnett\npatriotusa28@gmail.com\n561-753-8894\n\n\n\nSpecial Instructions: \nBriefing upon arrival of the escort.\n11:00 AM Service\nFlag Line as directed by the RC.\n\n\nFlags & Water:\nFlags will not be provided\nLarge Bike Flags will NOT be needed.\nWater WILL NOT be provided\, please bring your own.\n\n\n\n\nSubmitted By: Bernie Conner \nPosition: Florida Assistant State Captain \n\nNote: You do not have to own/ride a motorcycle or be a veteran to join\, and membership is Free. The only requirement is RESPECT! To subscribe to receive mission notices\, log into the National Site and click on the Members tab at the top. Select the Subscribe to PGR Missions option.\n Print This Page
URL:https://www.patriotguard.org/mission/william-hoyt-mcclung/
CATEGORIES:Honor Mission
END:VEVENT
END:VCALENDAR