BEGIN:VCALENDAR
VERSION:2.0
PRODID:-//Patriot Guard Riders - ECPv5.3.2.1//NONSGML v1.0//EN
CALSCALE:GREGORIAN
METHOD:PUBLISH
X-WR-CALNAME:Patriot Guard Riders
X-ORIGINAL-URL:https://www.patriotguard.org
X-WR-CALDESC:Events for Patriot Guard Riders
BEGIN:VTIMEZONE
TZID:America/New_York
BEGIN:DAYLIGHT
TZOFFSETFROM:-0500
TZOFFSETTO:-0400
TZNAME:EDT
DTSTART:20190310T070000
END:DAYLIGHT
BEGIN:STANDARD
TZOFFSETFROM:-0400
TZOFFSETTO:-0500
TZNAME:EST
DTSTART:20191103T060000
END:STANDARD
END:VTIMEZONE
BEGIN:VEVENT
DTSTART;VALUE=DATE:20190721
DTEND;VALUE=DATE:20190723
DTSTAMP:20210404T062414
CREATED:20190720T213601Z
LAST-MODIFIED:20190720T214919Z
UID:168378-1563667200-1563839999@www.patriotguard.org
SUMMARY:William Henry Woodall
DESCRIPTION:Honor Mission\nWilliam Henry Woodall\, Veteran\nUSA – Vietnam\nHuntsville\, Alabama – 07-21-19\n\n\n\nABOUT THE MISSION: \nThe Family of Bill Woodall has asked the Patriot Guard to honor their loved one by standing a silent flag line at his Visitation and Funeral Service with escort to his final resting place. We will be honored to do so. Mr. Barnett stood for us\, now is the time to stand for him. Mr. Woodall (70) was in the US Army in Vietnam and served with distinction. Mr. Woodall was a member of Rolling Thunder Alabama Chapter 2.\n\n\nPRIMARY STAGING DETAILS: 07-21-19 \nStaging Time: 4:00 PM\n \nBerryhill Funeral Home\n2305 Memorial Pkwy NW\nHuntsville\, Alabama 35810\n\n\nRide Captain: \nTama Morgan\ntmorgan@mdmechanical.com\n256-503-0818\n\nFlag Captain: Paul Nea\,l moosen23@hotmail.com\, 256-508-9172\n\n\nSpecial Instructions: \nPlace flags. Set flag line.\nFamily arrives at 4:30 pm\n\n\nFlags & Water:\nFlags will be provided\nLarge Bike Flags will NOT be needed.\nWater will be provided.\n\nSTAGING #2 DETAILS: 07-22-19 \nStaging Time: 09:00 AM\n \nBerryhill Funeral Home\n2305 Memorial Pkwy NW.\nHuntsville\, Alabama 35810\n\n\nRide Captain: \nJeff Tennyson\,  jeff.tennyson6897@gmail.com\, 256-221-1921\n\n\nSpecial Instructions: \nPlace flags. Set flag line.\nFamily arrives at 09:30 am.\nFuneral to follow at 10:00 am.\nEscort to Cedar Hill Cemetery.\n\n\nFlags & Water:\nFlags will not be provided\nIf you have large bike flags\, please bring them.\nWater WILL NOT be provided\, please bring your own.\n\n\n\nSubmitted By: John Cooper \nPosition: Alabama Ride Captain \n\nNote: You do not have to own/ride a motorcycle or be a veteran to join\, and membership is Free. The only requirement is RESPECT! To subscribe to receive mission notices\, log into the National Site and click on the Members tab at the top. Select the Subscribe to PGR Missions option.\n Print This Page
URL:https://www.patriotguard.org/mission/william-henry-woodall/
CATEGORIES:Honor Mission
END:VEVENT
END:VCALENDAR