BEGIN:VCALENDAR
VERSION:2.0
PRODID:-//Patriot Guard Riders - ECPv5.3.2.1//NONSGML v1.0//EN
CALSCALE:GREGORIAN
METHOD:PUBLISH
X-WR-CALNAME:Patriot Guard Riders
X-ORIGINAL-URL:https://www.patriotguard.org
X-WR-CALDESC:Events for Patriot Guard Riders
BEGIN:VTIMEZONE
TZID:America/New_York
BEGIN:DAYLIGHT
TZOFFSETFROM:-0500
TZOFFSETTO:-0400
TZNAME:EDT
DTSTART:20190310T070000
END:DAYLIGHT
BEGIN:STANDARD
TZOFFSETFROM:-0400
TZOFFSETTO:-0500
TZNAME:EST
DTSTART:20191103T060000
END:STANDARD
END:VTIMEZONE
BEGIN:VEVENT
DTSTART;VALUE=DATE:20190214
DTEND;VALUE=DATE:20190215
DTSTAMP:20210403T054450
CREATED:20190211T235101Z
LAST-MODIFIED:20190211T235215Z
UID:149994-1550102400-1550188799@www.patriotguard.org
SUMMARY:William H. Simpkins
DESCRIPTION:Memorial\nWilliam H. Simpkins\, Retired\nUSA – Vietnam\nHampton\, Virginia – 02-14-19\n\n\n\n\nABOUT THE MISSION: \nThe Patriot Guard has been invited by the family and friends of SGM William H. Simpkins USA- Ret to stand in honor of his service to our Country. SGM Simpkins enlisted in the US Army and served honorably for 26 years including two tours in Vietnam and other areas of the world.\n\n\nPRIMARY STAGING DETAILS: 02-14-19 \nStaging Time: 10:00 AM\n \nParklawn – Wood Funeral Home\n2551 N Armistead Ave\nHampton\, Virginia 23666\n\n\nRide Captain: \nBill Strausburg\n210-238-7897\nmrbill6970@hotmail.com\n\n\nSpecial Instructions: \nWe will form a flag line upon arrival at the funeral home to receive the family\, friends and guests. After the service we will form another flag line to transfer Mr. Simpkins and provide a short escort along with his family to a burial site located on the same property.\nAnticipate this mission to last 4 hours from start to finish.\n\n\nFlags & Water:\nFlags will be provided\nIf you have large bike flags\, please bring them.\nWater WILL NOT be provided\, please bring your own.\n\n\n\nSubmitted By: Mike Nugent \nPosition: Virginia Ride Captain \n\nNote: You do not have to own/ride a motorcycle or be a veteran to join\, and membership is Free. The only requirement is RESPECT! To subscribe to receive mission notices\, log into the National Site and click on the Members tab at the top. Select the Subscribe to PGR Missions option.\n Print This Page
URL:https://www.patriotguard.org/mission/william-h-simpkins/
CATEGORIES:Memorial
END:VEVENT
END:VCALENDAR