BEGIN:VCALENDAR
VERSION:2.0
PRODID:-//Patriot Guard Riders - ECPv5.3.2.1//NONSGML v1.0//EN
CALSCALE:GREGORIAN
METHOD:PUBLISH
X-WR-CALNAME:Patriot Guard Riders
X-ORIGINAL-URL:https://www.patriotguard.org
X-WR-CALDESC:Events for Patriot Guard Riders
BEGIN:VTIMEZONE
TZID:America/New_York
BEGIN:DAYLIGHT
TZOFFSETFROM:-0500
TZOFFSETTO:-0400
TZNAME:EDT
DTSTART:20190310T070000
END:DAYLIGHT
BEGIN:STANDARD
TZOFFSETFROM:-0400
TZOFFSETTO:-0500
TZNAME:EST
DTSTART:20191103T060000
END:STANDARD
END:VTIMEZONE
BEGIN:VEVENT
DTSTART;VALUE=DATE:20190605
DTEND;VALUE=DATE:20190607
DTSTAMP:20210405T031924
CREATED:20190604T232248Z
LAST-MODIFIED:20190604T232248Z
UID:163641-1559692800-1559865599@www.patriotguard.org
SUMMARY:William Grant Carroll
DESCRIPTION:Honor Mission\nWilliam Grant Carroll\, Veteran\nUSA – WoT\nMULTI-CITY\, Texas – 06-05-19\n\n\n\nABOUT THE MISSION: \nThe family of Mr. Grant Carroll has asked the Patriot Guard Riders to honor his memory and service to our Country by standing a Flag Line at his funeral service Wednesday and stand again at his interment service on Thursday. He was a veteran of Operation Iraqi Freedom (OIF; March 2003 – November 2011)\n\n\nPRIMARY STAGING DETAILS: 06-05-19 \nStaging Time: 1:00 PM\n \nBoze Mitchell McKibbin Funeral Home\n511 West Main Street\nWaxahachie\, Texas 75165\nMap\n\n\nRide Captain: \nRick Crabb\nrandjcrabb@juno.com\n(910) 330-9861\n\n\nSpecial Instructions: \nBriefing Time: 1:10\nIn Position/KSU Time: 1:20\nStarting Time: 2:00\n*** THIS MISSION WILL BE CONDUCTED OVER A TWO-DAY PERIOD ***\nAfter the Mission Brief\, the Riders will establish the Flag Line and await the arrival of Mr. Carroll’s family and friends. When directed\, the Riders will return the flags to the support vehicle\, be debriefed and dismissed. This ends part one of this Mission.\n\n\nFlags & Water:\nFlags will be provided\nLarge Bike Flags will NOT be needed.\nWater will be provided.\n\nSTAGING #2 DETAILS: 06-06-19 \nStaging Time: 08:15 AM\n \nDallas-Fort Worth National Cemetery\n2000 Mountain Creek Pkwy\nDallas\, Texas 75211\nMap\n\n\nRide Captain: \nRick Crabb\nrandjcrabb@juno.com\n(910) 330-9861\n\n\nSpecial Instructions: \nBriefing Time: 08:30 am\nIn Position/KSU Time: 08:45 am\nStarting Time: 09:00 am\nAfter the Mission Briefing\, four honor bikes will be identified and moved to the Staging Lane to accompany the procession. The remainder of the Riders will proceed to the designated Committal Shelter\, establish the Flag Line and prepare to receive the family and friends of Mr. Carroll. When directed\, the Riders will return the flags to storage\, be debriefed and dismissed.\n\n\nFlags & Water:\nFlags will be provided\nIf you have large bike flags\, please bring them.\nWater will be provided.\n\n\n\nSubmitted By: Laura Weger \nPosition: Texas Mission Control \n\nNote: You do not have to own/ride a motorcycle or be a veteran to join\, and membership is Free. The only requirement is RESPECT! To subscribe to receive mission notices\, log into the National Site and click on the Members tab at the top. Select the Subscribe to PGR Missions option.\n Print This Page
URL:https://www.patriotguard.org/mission/william-grant-carroll/
CATEGORIES:Honor Mission
END:VEVENT
END:VCALENDAR