BEGIN:VCALENDAR
VERSION:2.0
PRODID:-//Patriot Guard Riders - ECPv5.3.2.1//NONSGML v1.0//EN
CALSCALE:GREGORIAN
METHOD:PUBLISH
X-WR-CALNAME:Patriot Guard Riders
X-ORIGINAL-URL:https://www.patriotguard.org
X-WR-CALDESC:Events for Patriot Guard Riders
BEGIN:VTIMEZONE
TZID:America/New_York
BEGIN:DAYLIGHT
TZOFFSETFROM:-0500
TZOFFSETTO:-0400
TZNAME:EDT
DTSTART:20190310T070000
END:DAYLIGHT
BEGIN:STANDARD
TZOFFSETFROM:-0400
TZOFFSETTO:-0500
TZNAME:EST
DTSTART:20191103T060000
END:STANDARD
END:VTIMEZONE
BEGIN:VEVENT
DTSTART;VALUE=DATE:20190716
DTEND;VALUE=DATE:20190717
DTSTAMP:20210403T180054
CREATED:20190714T001348Z
LAST-MODIFIED:20190714T001655Z
UID:167096-1563235200-1563321599@www.patriotguard.org
SUMMARY:William Gottfried
DESCRIPTION:Honor Mission\nWilliam Gottfried\, Veteran\nUSA – Vietnam\nMaple Valley\, Washington – 07-16-19\n\n\n\nABOUT THE MISSION: \nLadies and Gentlemen of the Patriot Guard Riders\, we have been invited by the Life Partner of Pfc. William Gottfried (Bill) to stand a flag line for his final military honors. Bill was an Infantryman in the Army from July\, 1968 to July\, 1970. He served in Vietnam and was awarded the National Defense Service Medal\, Vietnam Service Medal\, Vietnam Campaign Medal\, the Combat Infantry Badge and the Sharpshooter – Rifle badge. Pfc Gottfried didn’t talk about his service often\, but when he did share stories they were always funny and made his partner laugh. According to her\, they had a lot of laughter in their lives. As a civilian Bill worked for the railroad\, US Forestry Service\, was a design engineer for Boeing and was a Farmer too! He liked to experience life. Please join us to stand for this American Hero!\n\n\nPRIMARY STAGING DETAILS: 07-16-19 \nStaging Time: 08:45 AM\n \nMcDonald’s\n23225 Maple Valley Black Diamond Hwy\nMaple Valley\, Washington 98038\n\n\nRide Captain: \nSabrina “Mother Hen” Brown\npgrmotherhen@gmail.com\n206-369-1434\n\nSV – CathyLee Hotwheelz Ryan\, hotwheelz65@gmail.com\, 206-380-9429\n\n\nSpecial Instructions: \n08:45 – Riders arrive\, sign in\n09:15 – Mission Briefing\n09:30 – KSU\n09:45 – Flag Line in place\n10:00 – Service commences\nForecast is expected to be 71 with 72% humidity\, keep hydrated.\nCages always welcome!\n\n\nFlags & Water:\nFlags will be provided\nLarge Bike Flags will NOT be needed.\nWater will be provided.\n\n\n\nSubmitted By: Sabrina Brown \nPosition: Washington State Captain \n\nNote: You do not have to own/ride a motorcycle or be a veteran to join\, and membership is Free. The only requirement is RESPECT! To subscribe to receive mission notices\, log into the National Site and click on the Members tab at the top. Select the Subscribe to PGR Missions option.\n Print This Page
URL:https://www.patriotguard.org/mission/william-gottfried/
CATEGORIES:Honor Mission
END:VEVENT
END:VCALENDAR