BEGIN:VCALENDAR
VERSION:2.0
PRODID:-//Patriot Guard Riders - ECPv5.3.2.1//NONSGML v1.0//EN
CALSCALE:GREGORIAN
METHOD:PUBLISH
X-WR-CALNAME:Patriot Guard Riders
X-ORIGINAL-URL:https://www.patriotguard.org
X-WR-CALDESC:Events for Patriot Guard Riders
BEGIN:VTIMEZONE
TZID:America/New_York
BEGIN:DAYLIGHT
TZOFFSETFROM:-0500
TZOFFSETTO:-0400
TZNAME:EDT
DTSTART:20170312T070000
END:DAYLIGHT
BEGIN:STANDARD
TZOFFSETFROM:-0400
TZOFFSETTO:-0500
TZNAME:EST
DTSTART:20171105T060000
END:STANDARD
END:VTIMEZONE
BEGIN:VEVENT
DTSTART;TZID=America/New_York:20170724T091500
DTEND;TZID=America/New_York:20170724T111500
DTSTAMP:20210404T154940
CREATED:20170724T131500Z
LAST-MODIFIED:20191201T034201Z
UID:340738-1500887700-1500894900@www.patriotguard.org
SUMMARY:William Gilmore\, Veteran\, USN - WWII
DESCRIPTION:William Gilmore\, Veteran \nUSN – WWII \nMULTI-CITY\, Oklahoma – 24 Jul 2017\n\n\n[HR][/HR] \nABOUT THE MISSION: \nThe family of USN William Gilmore WWII Veteran has asked the PGR to stand a flag line at his services on 24 July 17 at 10:00 am. Services to be held at Bellview Baptist Church at 1040 N Yale\, Tulsa\, Okla. at 10:00 am.\nInterment will be at Woodland Cemetery at 1200 N Cleveland\, Sand Springs\, Okla.\nThe PGR may be asked to do the Military honors. \n\nPRIMARY STAGING DETAILS: 24 Jul 2017 \n\nPrimary Staging Time: 9:15 A.M.\n\n\nBellview Baptist Church\n1040 N Yale (Admiral and yale area)\nTulsa\, Oklahoma –\n\n\n\nRide Captain:\n\n\nAnita ‘rapunzel’ Sexton\nstretch2520@gmail.com\n918-760-7445\n\n\n\nSpecial Instructions:\n\n\nBriefing at 9:30 YOU MUST ATTEND BRIEFING TO RIDE IN THE ESCORT.\nFlag line following briefing.\n\n\n\nFlags & Water:\n\n\nFlags Will Be Provided\nIf you have large bike flags\, please bring them.\nWater WILL NOT be provided\, please bring your own. \n\n\nSubmitted By: David Priest\nPosition: Ride Captain \n\n[HR][/HR] \nNote:\nYou do not have to own/ride a motorcycle or be a Veteran to join and membership is Free. The only requirement is RESPECT! To join\, simply go to www.PatriotGuard.org and click on Register. Membership is Free. \nTo subscribe to receive mission notices\, log into the National Site and click on the Mission Tab at the top. Select Upcoming Missions by State. Scroll to the state(s) you would like to receive notices for and click on the green check mark. Detailed instructions are also located in the FAQs on the site by clicking on the Quick Links Tab and selecting FAQs.
URL:https://www.patriotguard.org/mission/william-gilmore-veteran-usn-wwii/
END:VEVENT
END:VCALENDAR