BEGIN:VCALENDAR
VERSION:2.0
PRODID:-//Patriot Guard Riders - ECPv5.3.2.1//NONSGML v1.0//EN
CALSCALE:GREGORIAN
METHOD:PUBLISH
X-WR-CALNAME:Patriot Guard Riders
X-ORIGINAL-URL:https://www.patriotguard.org
X-WR-CALDESC:Events for Patriot Guard Riders
BEGIN:VTIMEZONE
TZID:America/New_York
BEGIN:DAYLIGHT
TZOFFSETFROM:-0500
TZOFFSETTO:-0400
TZNAME:EDT
DTSTART:20190310T070000
END:DAYLIGHT
BEGIN:STANDARD
TZOFFSETFROM:-0400
TZOFFSETTO:-0500
TZNAME:EST
DTSTART:20191103T060000
END:STANDARD
END:VTIMEZONE
BEGIN:VEVENT
DTSTART;VALUE=DATE:20190911
DTEND;VALUE=DATE:20190912
DTSTAMP:20210401T104418
CREATED:20190909T101905Z
LAST-MODIFIED:20190909T101905Z
UID:173231-1568160000-1568246399@www.patriotguard.org
SUMMARY:William George Lockeman
DESCRIPTION:Honor Mission\n\nWilliam George Lockeman\, Veteran\nUSA – Korea\nHolly\, Michigan – 09-11-19\n\n\n\n\nABOUT THE MISSION: \nThe family of Cpl William George Lockeman\, 87\, has invited the Patriot Guard Riders to stand in honor of his service to ourc ountry. Mr. Lockeman was born 19 February 1932 and passed 2 September 2019.  Mr. Lockeman was in the US Army during the Korean War.  Mr. Lockeman received the United Nations Service Medal with two devices\, Republic of Korea Presidential Unit Citation and the National Defense Service Medal.  William had two sons\, a daughter\, and numerous grandchildren and great-grandchildren.\nObituary\n\n\nPRIMARY STAGING DETAILS: 09-11-19 \nStaging Time: 1:10 p.m.\n \nMcDonald’s\n15176 N. Holly Rd.\nHolly\, Michigan 48442\nMap\n\n\nRide Captain: \nRick Baker (HAM)\, Ricbak31@comcast.net\n\n\nSpecial Instructions: \nBriefing: 1:40 PM\nKSU: 2:05 PM\nService: 2:30 PM\nPlease bring your 3′ x 5′ American Flag to stand in honor of Mr. Lockeman’s service to our country.\n\n\nFlags & Water:\nFlags will not be provided\nLarge Bike Flags will NOT be needed.\nWater WILL NOT be provided\, please bring your own.\n\n\nSubmitted By: Terrence Laurencelle \nPosition: Michigan Ride Captain \n\nNote: You do not have to own/ride a motorcycle or be a veteran to join\, and membership is Free. The only requirement is RESPECT! To subscribe to receive mission notices\, log into the National Site and click on the Members tab at the top. Select the Subscribe to PGR Missions option.\n Print This Page
URL:https://www.patriotguard.org/mission/william-george-lockeman/
CATEGORIES:Honor Mission
END:VEVENT
END:VCALENDAR