BEGIN:VCALENDAR
VERSION:2.0
PRODID:-//Patriot Guard Riders - ECPv5.3.2.1//NONSGML v1.0//EN
CALSCALE:GREGORIAN
METHOD:PUBLISH
X-WR-CALNAME:Patriot Guard Riders
X-ORIGINAL-URL:https://www.patriotguard.org
X-WR-CALDESC:Events for Patriot Guard Riders
BEGIN:VTIMEZONE
TZID:America/New_York
BEGIN:DAYLIGHT
TZOFFSETFROM:-0500
TZOFFSETTO:-0400
TZNAME:EDT
DTSTART:20150308T070000
END:DAYLIGHT
BEGIN:STANDARD
TZOFFSETFROM:-0400
TZOFFSETTO:-0500
TZNAME:EST
DTSTART:20151101T060000
END:STANDARD
END:VTIMEZONE
BEGIN:VEVENT
DTSTART;TZID=America/New_York:20150829T090000
DTEND;TZID=America/New_York:20150829T110000
DTSTAMP:20210404T151526
CREATED:20150829T130000Z
LAST-MODIFIED:20191201T123925Z
UID:392474-1440838800-1440846000@www.patriotguard.org
SUMMARY:William G. Westerlund\, 67\, USN Veteran / Mt. Airey
DESCRIPTION:William George (Bill) Westerlund\, 67\, \nNavy Veteran\, Mt. Airey\, MD \n29 AUG 15\n\n    The family of Bill Westerlund has asked the PGR to join them in honoring their True American Hero.  Bill served in the Navy and came from a long line of military veterans.\nWe will meet at the church where we will form a flag line\, and then escort the family to the cemetery. \nRide Captain – Sandy Hohne (410)259-5791\, sandyhohne@gmail.com  \nStaging\nSaturday\, 29 AUG 15 \n9am – 9:15– Stage at the Church: \nMt Airy Bible Church\n16700 Old Frederick Rd\, Mount Airy\, MD 21771\nhttps://goo.gl/maps/fKhzL \n     We will stand a flag line outside of the church beginning at 9:30am and during his funeral service at 10am. \n11am (Time approximate)– We will escort the family approximately 11 miles to the cemetery:\nCrestlawn Memorial Gardens\n2150 Mount View Rd.\nMarriotsville\, MD 21104 \nhttps://goo.gl/maps/EuGCW \n    The  weather for Saturday will be warm and sunny with temperatures in the  upper 80s. – Please dress accordingly\, and bring water to stay hydrated.\nPlease bring your 3×5 flags\, but if you don’t have one\, but there will be extras available.\nBikes and cages are both welcome- It doesn’t matter how you get there\, just that you get there! \nBill Staats\nMD & DC State Captain\nPatriot Guard Riders
URL:https://www.patriotguard.org/mission/william-g-westerlund-67-usn-veteran-mt-airey/
CATEGORIES:Archive
END:VEVENT
END:VCALENDAR