BEGIN:VCALENDAR
VERSION:2.0
PRODID:-//Patriot Guard Riders - ECPv5.6.0//NONSGML v1.0//EN
CALSCALE:GREGORIAN
METHOD:PUBLISH
X-WR-CALNAME:Patriot Guard Riders
X-ORIGINAL-URL:https://www.patriotguard.org
X-WR-CALDESC:Events for Patriot Guard Riders
BEGIN:VTIMEZONE
TZID:America/New_York
BEGIN:DAYLIGHT
TZOFFSETFROM:-0500
TZOFFSETTO:-0400
TZNAME:EDT
DTSTART:20160313T070000
END:DAYLIGHT
BEGIN:STANDARD
TZOFFSETFROM:-0400
TZOFFSETTO:-0500
TZNAME:EST
DTSTART:20161106T060000
END:STANDARD
END:VTIMEZONE
BEGIN:VEVENT
DTSTART;TZID=America/New_York:20160711T090000
DTEND;TZID=America/New_York:20160711T110000
DTSTAMP:20210512T141023
CREATED:20160711T130000Z
LAST-MODIFIED:20191201T144453Z
UID:410722-1468227600-1468234800@www.patriotguard.org
SUMMARY:William G. Hoselton\, USAF Veteran / St Charles
DESCRIPTION:The  Family of WILLIAM G. “BILL” HOSELTON has respectfully requested the  Patriot Guard Riders assist with the services of their loved one by  standing a Tall and Silent Flag Line of Honor and Respect and escorting  him to his final place of rest the Hallowed Grounds of Jefferson  Barracks National Cemetery.\n\nWilliam”Bill”  Hoselton served with Honor in the U.S. Air Force from 1954 til 1957.  “Bill” was awarded the rank of Airman 2nd Class. There was no  information on his DD 214 reference any Awards or Commendations.    \nAirman  2nd Class Hoselton leaves his wife\, six sons\, and one daughter. “Bill”  was employed by the Ferguson-Florissant School District for many years. \nSTAGE:\nBaue Funeral Home\n3950 W. Clay\nSt. Charles\, Mo.\n                                                         8:15 A.M.  Monday 11 July 2016 \nFLAG LINE:\n8:30 A.M. til 9:00 A.M. \nESCORT:\nJefferson Barracks National Cemetery\nSlot Time 10:00 A.M.   \nFLAG SUPPORT:\nDanny”Wolfman”Reinbold \nRIDE CAPTAIN:\nBob”GrampyBob”Griffith\n                                                            pgr4559@yahoo.com
URL:https://www.patriotguard.org/mission/william-g-hoselton-usaf-veteran-st-charles/
CATEGORIES:Archive
END:VEVENT
END:VCALENDAR