BEGIN:VCALENDAR
VERSION:2.0
PRODID:-//Patriot Guard Riders - ECPv5.6.0//NONSGML v1.0//EN
CALSCALE:GREGORIAN
METHOD:PUBLISH
X-WR-CALNAME:Patriot Guard Riders
X-ORIGINAL-URL:https://www.patriotguard.org
X-WR-CALDESC:Events for Patriot Guard Riders
BEGIN:VTIMEZONE
TZID:America/New_York
BEGIN:DAYLIGHT
TZOFFSETFROM:-0500
TZOFFSETTO:-0400
TZNAME:EDT
DTSTART:20160313T070000
END:DAYLIGHT
BEGIN:STANDARD
TZOFFSETFROM:-0400
TZOFFSETTO:-0500
TZNAME:EST
DTSTART:20161106T060000
END:STANDARD
END:VTIMEZONE
BEGIN:VEVENT
DTSTART;TZID=America/New_York:20160805T090000
DTEND;TZID=America/New_York:20160805T110000
DTSTAMP:20210512T011340
CREATED:20160805T130000Z
LAST-MODIFIED:20191201T143812Z
UID:410109-1470387600-1470394800@www.patriotguard.org
SUMMARY:William Fleming
DESCRIPTION:Patriot’s Name:PO3 William Fleming\nMilitary Branch:United States Navy\nClassification:Veteran \nMission Ride Captain:\nJammie “J Hawk” Yaw\njammie972@yahoo.com\n(972) 467-0724 \nMission Summary:\nThe Family Has Asked The PGR To Stand A Flag Line At Funeral Service. The Inurnment Flag Line at Dallas Fort Worth National Cemetery Will Be Held On Friday. \nPART 1:Flag Line at\nDallas Fort Worth National Cemetery\n2000 Mountain Creek Parkway\nDallas\, TX \nMission Date:Aug 05\, 2016 – Friday\nStaging Time:13:15\nBriefing Time:13:30\nIn Position Time Or KSU:13:45\nService Start Time:14:00 \nDetails Of Part 1:\nPrior to the riders briefing at the Visitors Center\, four honor bikes will be selected to accompany the family to the committal shelter. After the briefing\, the PGR will establish the flag line at Shelter D\, where we will stand tall and silent in honor of PO3 William Fleming\, his family\, and friends. Upon conclusion of the Inurnment Service\, the flags will be furled and returned to storage followed by debriefing and dismissal. \nName Of Staging Point:\nDallas Fort Worth National Cemetery Visitors Center\n2000 Mountain Creek Parkway\nDallas\, Texas 75211
URL:https://www.patriotguard.org/mission/william-fleming/
CATEGORIES:Archive
END:VEVENT
END:VCALENDAR