BEGIN:VCALENDAR
VERSION:2.0
PRODID:-//Patriot Guard Riders - ECPv5.6.0//NONSGML v1.0//EN
CALSCALE:GREGORIAN
METHOD:PUBLISH
X-WR-CALNAME:Patriot Guard Riders
X-ORIGINAL-URL:https://www.patriotguard.org
X-WR-CALDESC:Events for Patriot Guard Riders
BEGIN:VTIMEZONE
TZID:America/New_York
BEGIN:DAYLIGHT
TZOFFSETFROM:-0500
TZOFFSETTO:-0400
TZNAME:EDT
DTSTART:20160313T070000
END:DAYLIGHT
BEGIN:STANDARD
TZOFFSETFROM:-0400
TZOFFSETTO:-0500
TZNAME:EST
DTSTART:20161106T060000
END:STANDARD
END:VTIMEZONE
BEGIN:VEVENT
DTSTART;TZID=America/New_York:20160826T090000
DTEND;TZID=America/New_York:20160826T110000
DTSTAMP:20210512T024300
CREATED:20160826T130000Z
LAST-MODIFIED:20191201T143326Z
UID:409663-1472202000-1472209200@www.patriotguard.org
SUMMARY:William Ferguson\, 68\, USA
DESCRIPTION:Vietnam Veteran William “Bill” Ferguson\, 68\nUnited States Army\n\n\n\nThe family of Vietnam Veteran Bill Ferguson\, 68\, U. S. Army\, Alliance\, Nebraska\, has requested the Patriot Guard Riders participate in his Funeral Service\, Friday\, August 26th\, 2016\, at the United Methodist Church in Alliance\, Nebraska. \nBill served in the U.S. Army from August 22\, 1967 to August 27\, 1970. He was awarded a Certificate of Achievement for Meritorious Service relating to his year of deployment in Vietnam. \nSTAGE DATE:                           Friday\, August 26th 2016 \nSTAGE LOCATION:                  Alliance United Methodist Church\, 704 Box Butte Ave\, Alliance\, NE \nSTAGE TIME:                           8:45 am \nRIDERS MEETING:                   9:00 am        Parking lot South of Church \nFLAG LINE:                               9:15 am           FLAGS WILL BE PROVIDED. \nFUNERAL SERVICE:                    10:00 am \nThis mission will include an escort from the Church to the Cemetery\, and a flag line at the Cemetery. Burial will be at the Nebraska Veterans Cemetery\, 2610 C.R. 57\, Alliance\, NE \nRide/FLAG Captain:  Rodger Clark     dbleagle426@q.com 308-760-2168 \nSafety being paramount – ride only if conditions permit. The Nebraska Patriot Guard Riders have been recognized by the National Safety Council and the Nebraska Office of Highway Safety for adhering to and promoting motorcycle safety. Ride Alert – Ride Safe. \nThe PGR proudly acknowledge being created by a small group of visionary American Legion Riders. \nPlease monitor www.patriotguard.org for changes and updates.
URL:https://www.patriotguard.org/mission/william-ferguson-68-usa/
END:VEVENT
END:VCALENDAR