BEGIN:VCALENDAR
VERSION:2.0
PRODID:-//Patriot Guard Riders - ECPv5.3.2.1//NONSGML v1.0//EN
CALSCALE:GREGORIAN
METHOD:PUBLISH
X-WR-CALNAME:Patriot Guard Riders
X-ORIGINAL-URL:https://www.patriotguard.org
X-WR-CALDESC:Events for Patriot Guard Riders
BEGIN:VTIMEZONE
TZID:America/New_York
BEGIN:DAYLIGHT
TZOFFSETFROM:-0500
TZOFFSETTO:-0400
TZNAME:EDT
DTSTART:20190310T070000
END:DAYLIGHT
BEGIN:STANDARD
TZOFFSETFROM:-0400
TZOFFSETTO:-0500
TZNAME:EST
DTSTART:20191103T060000
END:STANDARD
END:VTIMEZONE
BEGIN:VEVENT
DTSTART;VALUE=DATE:20190627
DTEND;VALUE=DATE:20190628
DTSTAMP:20210404T234802
CREATED:20190621T055143Z
LAST-MODIFIED:20190621T055143Z
UID:165417-1561593600-1561679999@www.patriotguard.org
SUMMARY:William F. Lankford
DESCRIPTION:Honor Mission\nWilliam F. Lankford\, Veteran\nUSA – Vietnam\nPhoenix\, Arizona – 06-27-19\n\n\n\n\nABOUT THE MISSION: \nWilliam Lankford served our nation honorably in Vietnam. Even though he has no family the PGR will be standing as his family. William attained the rank of Private First Class E3. While serving he received the following awards and commendations: Purple Heart for wounds received in connection with military operations against a hostile force; Award of the Meritorious Unit Commendation; Army Commendation Medal for meritorious achievement in connection with ground operations against a hostile force in the Republic of Vietnam\, specifically\, an attack against 35\,000 American military and civilian personnel stationed in the city of Saigon.\n\n\nPRIMARY STAGING DETAILS: 06-27-19 \nStaging Time: 12:45 PM  \nCostco\n2450 E Beardsley Rd\nPhoenix\, Arizona 85050\n\n\nRide Captain: \nDan Lazear\nazpgrdan@gmail.com\n480-223-8628\n\nLead Road Guard: Jim Anderson\n\n\nSpecial Instructions: \nShort Mission Briefing: 1:00 PM\nKSU to National: 1:15 PM\nMilitary Honors: 2:00 PM\n\nFlags & Water:\nFlags will not be provided\nIf you have large bike flags\, please bring them.\nWater WILL NOT be provided\, please bring your own.\n\nSTAGING #2 DETAILS: 06-27-19 \nStaging Time: 1:15 PM  \nNational Memorial Cemetery of Arizona Visitor Center\n23029 North Cave Creek Road\nPhoenix\, Arizona 85024\n\n\nRide Captain: \nDan Lazear\n480-223-8628\nazpgrdan@gmail.com\n\nFlag Captain: TBA\n\n\nSpecial Instructions: \nCircle of Honor: 1:30 PM\nFlag Line Set: 1:45 PM\nMilitary Honors: 2:00 PM\n\nFlags & Water:\nFlags will be provided\nLarge Bike Flags will NOT be needed.\nWater will be provided.\n\nSubmitted By: Mike Sullivan \nPosition: Arizona Assistant State Captain \n\nNote: You do not have to own/ride a motorcycle or be a veteran to join\, and membership is Free. The only requirement is RESPECT! To subscribe to receive mission notices\, log into the National Site and click on the Members tab at the top. Select the Subscribe to PGR Missions option.\n Print This Page
URL:https://www.patriotguard.org/mission/william-f-lankford/
CATEGORIES:Honor Mission
END:VEVENT
END:VCALENDAR