BEGIN:VCALENDAR
VERSION:2.0
PRODID:-//Patriot Guard Riders - ECPv5.3.2.1//NONSGML v1.0//EN
CALSCALE:GREGORIAN
METHOD:PUBLISH
X-WR-CALNAME:Patriot Guard Riders
X-ORIGINAL-URL:https://www.patriotguard.org
X-WR-CALDESC:Events for Patriot Guard Riders
BEGIN:VTIMEZONE
TZID:America/New_York
BEGIN:DAYLIGHT
TZOFFSETFROM:-0500
TZOFFSETTO:-0400
TZNAME:EDT
DTSTART:20170312T070000
END:DAYLIGHT
BEGIN:STANDARD
TZOFFSETFROM:-0400
TZOFFSETTO:-0500
TZNAME:EST
DTSTART:20171105T060000
END:STANDARD
END:VTIMEZONE
BEGIN:VEVENT
DTSTART;TZID=America/New_York:20170505T101500
DTEND;TZID=America/New_York:20170505T121500
DTSTAMP:20210403T055832
CREATED:20170505T141500Z
LAST-MODIFIED:20191201T033514Z
UID:336148-1493979300-1493986500@www.patriotguard.org
SUMMARY:William Ernest\, Veteran\, USA - GW/ODS
DESCRIPTION:William Ernest\, Veteran \nUSA – GW/ODS \nHornell\, New York – 05 May 2017\n\n[HR][/HR]\nABOUT THE MISSION: \nWilliam Ernest served during Desert Storm with the United States Army.  Little more is known at this time \nPRIMARY STAGING DETAILS: 05 May 2017 \n \nPrimary Staging Time: 10:15 A.M.\n\nBishop and Johnson Funeral Home\n285 Main St\nHornell\, NY\n\n\n\n\n\nRide Captain:\n\nBob Wheeler\n(607)425-4341\nWheels1949@stny.rr.com\n\n \nSpecial Instructions:\n\nStaging prior to family arrival\n\n \nFlags & Water:\n\nFlags Will NOT Be Provided\, Please Bring Your Own.\n\nIf you have large bike flags\, please bring them.\n\nWater WILL NOT be provided\, please bring your own.\n\n\nSubmitted By: Robert Wheeler\nPosition: State Captain \n[HR][/HR]\nNote:\nYou do not have to own/ride a motorcycle or be a Veteran to join and membership is Free. The only requirement is RESPECT! To join\, simply go to www.PatriotGuard.org and click on Register. Membership is Free. \nTo subscribe to receive mission notices\, log into the National Site and click on the Mission Tab at the top. Select Upcoming Missions by State. Scroll to the state(s) you would like to receive notices for and click on the green check mark. Detailed instructions are also located in the FAQs on the site by clicking on the Quick Links Tab and selecting FAQs.
URL:https://www.patriotguard.org/mission/william-ernest-veteran-usa-gw-ods/
END:VEVENT
END:VCALENDAR