BEGIN:VCALENDAR
VERSION:2.0
PRODID:-//Patriot Guard Riders - ECPv5.3.2.1//NONSGML v1.0//EN
CALSCALE:GREGORIAN
METHOD:PUBLISH
X-WR-CALNAME:Patriot Guard Riders
X-ORIGINAL-URL:https://www.patriotguard.org
X-WR-CALDESC:Events for Patriot Guard Riders
BEGIN:VTIMEZONE
TZID:America/New_York
BEGIN:DAYLIGHT
TZOFFSETFROM:-0500
TZOFFSETTO:-0400
TZNAME:EDT
DTSTART:20190310T070000
END:DAYLIGHT
BEGIN:STANDARD
TZOFFSETFROM:-0400
TZOFFSETTO:-0500
TZNAME:EST
DTSTART:20191103T060000
END:STANDARD
END:VTIMEZONE
BEGIN:VEVENT
DTSTART;VALUE=DATE:20190903
DTEND;VALUE=DATE:20190904
DTSTAMP:20210401T102920
CREATED:20190902T145232Z
LAST-MODIFIED:20190902T145232Z
UID:172440-1567468800-1567555199@www.patriotguard.org
SUMMARY:William Eaton
DESCRIPTION:Honor Mission\nWilliam Eaton\, Veteran\nUSA –\nShepherdsville\, Kentucky – 09-03-19\n\n\n\nABOUT THE MISSION: \nWe have been requested to stand a flag line for William Eaton. Mr. Eaton is a proud veteran of the United States Army. It will be our honor to stand in his honor. Flag line only from 9 am to 12 pm. Service starts at 12.\n\n\nPRIMARY STAGING DETAILS: 09-03-19 \nStaging Time: 08:45 AM  EST\n \nSchoppenhorst\, Underwood and Brooks\n4895 North Preston Hwy\nShepherdsville\, Kentucky 40165\n\n\nRide Captain: \nDavid Ballard\n502 249 0011\n\n\nSpecial Instructions: \nPlease come hydrated and dressed for the weather.\n\n\nFlags & Water:\nFlags will be provided\nLarge Bike Flags will NOT be needed.\nWater WILL NOT be provided\, please bring your own.\n\n\n\nSubmitted By: Thomas Baker \nPosition: Kentucky Ride Captain \n\nNote: You do not have to own/ride a motorcycle or be a veteran to join\, and membership is Free. The only requirement is RESPECT! To subscribe to receive mission notices\, log into the National Site and click on the Members tab at the top. Select the Subscribe to PGR Missions option.\n Print This Page
URL:https://www.patriotguard.org/mission/william-eaton/
CATEGORIES:Honor Mission
END:VEVENT
END:VCALENDAR