BEGIN:VCALENDAR
VERSION:2.0
PRODID:-//Patriot Guard Riders - ECPv5.3.2.1//NONSGML v1.0//EN
CALSCALE:GREGORIAN
METHOD:PUBLISH
X-WR-CALNAME:Patriot Guard Riders
X-ORIGINAL-URL:https://www.patriotguard.org
X-WR-CALDESC:Events for Patriot Guard Riders
BEGIN:VTIMEZONE
TZID:America/New_York
BEGIN:DAYLIGHT
TZOFFSETFROM:-0500
TZOFFSETTO:-0400
TZNAME:EDT
DTSTART:20180311T070000
END:DAYLIGHT
BEGIN:STANDARD
TZOFFSETFROM:-0400
TZOFFSETTO:-0500
TZNAME:EST
DTSTART:20181104T060000
END:STANDARD
END:VTIMEZONE
BEGIN:VEVENT
DTSTART;TZID=America/New_York:20180521T163000
DTEND;TZID=America/New_York:20180521T183000
DTSTAMP:20210403T040445
CREATED:20180521T203000Z
LAST-MODIFIED:20200617T173342Z
UID:304497-1526920200-1526927400@www.patriotguard.org
SUMMARY:William Earl Hodge\, POW/MIA USA - WWII
DESCRIPTION:Honor Mission\nWilliam Earl Hodge\, POW/MIA\nUSA – WWII\nJackson\, Mississippi – 21 May 2018\n\n\nABOUT THE MISSION: \nWe are saddened to report the passing of a true American hero. William Earl Hodge\, 93\, passed on Saturday May 19th at G.V. Sonny Montgomery VA Hospital in Jackson\, MS.\nMr Hodge was a member of the “Greatest Generation”. He served in the U.S. Army during WWII and endured being a POW.\nThe Hodge family has requested that the PGR Stand for One Who Stood for Us.\nPRIMARY STAGING DETAILS: 21 May 2018\nPrimary Staging Time: 4:30 P.M. \nFirst Pentecostal Church\n5000 I-55 S\nJackson\, Mississippi – 39272\nRide Captain: \nTerry “Low Ride” McMillan\n601-940-0333\nSpecial Instructions: \nFlags will be posted for visitation from 5:00-8:00 p.m.\nFlags & Water: \nFlags Will Be Provided\nLarge Bike Flags will NOT be needed.\nWater WILL NOT be provided\, please bring your own.\n\n\nSTAGING #2 DETAILS: 22 May\, 2018\nStaging #2 Time: 9:30 A.M. \nFirst Pentecostal Church\n5000 I-55 S\nJackson\, Mississippi – 39272\nRide Captain: \nTerry “Low Ride” McMillan\n601-940-0333\nSpecial Instructions: \nThe PGR will stand a flag line for visitation from 10:00 a.m. until church service at 11:00.\nAt service conclusion\, the PGR will escort Mr Hodge to Garden of Memories in Florence\, MS and stand for military honors.\nFlags & Water: \nFlags Will Be Provided\nLarge Bike Flags will be needed\nWater WILL NOT be provided\, please bring your own.\n  \n\nSubmitted By: Terry McMillan\nPosition: Assistant State Captain\n \n\nNote:\nYou do not have to own/ride a motorcycle or be a Veteran to join and membership is Free. The only requirement is RESPECT! To join\, simply go to www.PatriotGuard.org and click on Register. Membership is Free. \nTo subscribe to receive mission notices\, log into the National Site and click on the Mission Tab at the top. Select the Subscribe to Missions option.
URL:https://www.patriotguard.org/mission/william-earl-hodge-pow-mia-usa-wwii/
CATEGORIES:Honor Mission
END:VEVENT
END:VCALENDAR