BEGIN:VCALENDAR
VERSION:2.0
PRODID:-//Patriot Guard Riders - ECPv5.6.0//NONSGML v1.0//EN
CALSCALE:GREGORIAN
METHOD:PUBLISH
X-WR-CALNAME:Patriot Guard Riders
X-ORIGINAL-URL:https://www.patriotguard.org
X-WR-CALDESC:Events for Patriot Guard Riders
BEGIN:VTIMEZONE
TZID:America/New_York
BEGIN:DAYLIGHT
TZOFFSETFROM:-0500
TZOFFSETTO:-0400
TZNAME:EDT
DTSTART:20160313T070000
END:DAYLIGHT
BEGIN:STANDARD
TZOFFSETFROM:-0400
TZOFFSETTO:-0500
TZNAME:EST
DTSTART:20161106T060000
END:STANDARD
END:VTIMEZONE
BEGIN:VEVENT
DTSTART;TZID=America/New_York:20160825T090000
DTEND;TZID=America/New_York:20160825T110000
DTSTAMP:20210511T184128
CREATED:20160825T130000Z
LAST-MODIFIED:20191201T143412Z
UID:409736-1472115600-1472122800@www.patriotguard.org
SUMMARY:William E. Haulman
DESCRIPTION:William E. Haulman\nUSMC Veteran\nFt. Logan\, Denver\, CO\n25 AUG 16\n\n\n\nThe Patriot Guard Riders have been invited to stand in honor of William Erik Haulman\, 78\, USMC Veteran \nHis Interment Service scheduled for Thursday\, 25 August at 10:30AM at:\nFt. Logan National Cemetery\n3698 S. Sheridan Blvd.\nDenver\, CO 80235\, Pavilion B. \nMr. Haulman served in the Marine Corps from 1955-1959. \n9:45AM Stage in front of Ft. Logan Visitor’s Center \n10:00AM Mission Briefing \n10:15AM Depart for Pav. B to set Flag Line \nKen ‘Nick’ Nicholas will serve as Ride Captain and will bring Flags. \nContact:\nKathy ‘Rat’ Goldstein\, SC\n720-244-0594\nstatecaptain@coloradopgr.org
URL:https://www.patriotguard.org/mission/william-e-haulman/
CATEGORIES:Archive
END:VEVENT
END:VCALENDAR