BEGIN:VCALENDAR
VERSION:2.0
PRODID:-//Patriot Guard Riders - ECPv5.3.2.1//NONSGML v1.0//EN
CALSCALE:GREGORIAN
METHOD:PUBLISH
X-WR-CALNAME:Patriot Guard Riders
X-ORIGINAL-URL:https://www.patriotguard.org
X-WR-CALDESC:Events for Patriot Guard Riders
BEGIN:VTIMEZONE
TZID:America/New_York
BEGIN:DAYLIGHT
TZOFFSETFROM:-0500
TZOFFSETTO:-0400
TZNAME:EDT
DTSTART:20190310T070000
END:DAYLIGHT
BEGIN:STANDARD
TZOFFSETFROM:-0400
TZOFFSETTO:-0500
TZNAME:EST
DTSTART:20191103T060000
END:STANDARD
END:VTIMEZONE
BEGIN:VEVENT
DTSTART;VALUE=DATE:20190613
DTEND;VALUE=DATE:20190614
DTSTAMP:20210405T022046
CREATED:20190607T203649Z
LAST-MODIFIED:20190607T203649Z
UID:163988-1560384000-1560470399@www.patriotguard.org
SUMMARY:William Donald Hall
DESCRIPTION:Honor Mission\nWilliam Donald Hall\, Veteran\nUSA\, Korea\nCanton\, Georgia – 06-13-19\n\n\n\nABOUT THE MISSION:\n\n\nThe family of William Donald Hall has asked the Patriot Guard Riders to stand for their loved one and it will be our honor to do so. PVT Hall served two years in the US Army as a medic with nearly all of his tour in the Korean War.\n\n\nPRIMARY STAGING DETAILS: 06-13-19 \nStaging Time: 08:15 am \nDarby Funeral Home\n480 E. Main St.\nCanton\, Georgia 30114\n\n\nRide Captain: \nClete Simpson\ncsimps15@comcast.net\n770-364-6266\n\n\nSpecial Instructions: \nMeet at the funeral home for a briefing before our LEO led escort to the Georgia National Cemetery. Family will arrive at approximately 8:30 am. KSU approximately 9:00 am to GNC.\n\n\nFlags & Water:\n\nFlags will not be provided\nIf you have large bike flags\, please bring them.\nWater will be provided.\n\nSTAGING #2 DETAILS: 06-13-19 \nStaging Time: 09:15 am \nGeorgia National Cemetery\n1080 Veterans Cemetery Rd.\nCanton\, Georgia 30114\n\n\nRide Captain: \nClete Simpson\ncsimps15@comcast.net\n770-364-6266\n\n\nSpecial Instructions: \nMeet at the flagpole between the PIC building and shelter one. Bikes park on the sidewalk at top of the hill. Cages park on the right side of the road going up the hill. If no room\, park on the other\, downhill side. Make sure to leave room for other vehicles to pass on the roadway. After a briefing we will depart to the assigned shelter and stand a flag line for the 10:00 am service.\n\n\nFlags & Water:\n\nFlags will be provided\nLarge Bike Flags will NOT be needed.\nWater will be provided.\n\n\n\nSubmitted By: Clete Simpson \nPosition: Georgia Ride Captain \n\nNote: You do not have to own/ride a motorcycle or be a veteran to join\, and membership is Free. The only requirement is RESPECT! To subscribe to receive mission notices\, log into the National Site and click on the Members tab at the top. Select the Subscribe to PGR Missions option.\n Print This Page
URL:https://www.patriotguard.org/mission/william-donald-hall/
CATEGORIES:Honor Mission
END:VEVENT
END:VCALENDAR