BEGIN:VCALENDAR
VERSION:2.0
PRODID:-//Patriot Guard Riders - ECPv5.3.2.1//NONSGML v1.0//EN
CALSCALE:GREGORIAN
METHOD:PUBLISH
X-WR-CALNAME:Patriot Guard Riders
X-ORIGINAL-URL:https://www.patriotguard.org
X-WR-CALDESC:Events for Patriot Guard Riders
BEGIN:VTIMEZONE
TZID:America/New_York
BEGIN:DAYLIGHT
TZOFFSETFROM:-0500
TZOFFSETTO:-0400
TZNAME:EDT
DTSTART:20190310T070000
END:DAYLIGHT
BEGIN:STANDARD
TZOFFSETFROM:-0400
TZOFFSETTO:-0500
TZNAME:EST
DTSTART:20191103T060000
END:STANDARD
END:VTIMEZONE
BEGIN:VEVENT
DTSTART;VALUE=DATE:20190713
DTEND;VALUE=DATE:20190714
DTSTAMP:20210404T032406
CREATED:20190709T204157Z
LAST-MODIFIED:20190709T204157Z
UID:167077-1562976000-1563062399@www.patriotguard.org
SUMMARY:William Dale Peden
DESCRIPTION:Honor Mission\nWilliam Dale Peden\, Retired\nUSAF \, USAFR\, Vietnam\nVancouver\, Washington – 07-13-19\n\n\n\nABOUT THE MISSION: \nLadies and Gentlemen of the Patriot Guard Riders\, We have been invited by the family of William Dale Peden to attend his final military honors. Col William “Bill” Peden served his country as a pilot in the US Air Force. He proudly made it home safe from Vietnam after flying an F-4 Phantom fighter Jet in over 100 missions. During Bills 9 years active and 18 years in the reserves\, he was awarded the Silver Star\, Distinguished Flying Cross w/2 Devices\, Meritorious Service Medal\, Air Medal w/12 Devices\, Air Force Commendation Medal w/1 Device\, Distinguished-Presidential Unit Citation\, AF Outstanding Unit Award w/2 Devices\, Combat readiness Medal w/2 Devices\, National Defense Service Medal\, Vietnam Service Medal w/2 devices\, Southwest Asia Service Medal W/2 Devices\, Humanitarian Service Medal\, Air Force Overseas short tour ribbon\, Air Force Overseas long tour ribbon\, Armed Forces Reserve Medal w/1 device\, Small arms Expert Marksmanship ribbon w/1 device\, Air Force Training ribbon\, Republic of Vietnam Gallantry Cross w/device\, Kuwait Liberation Medal\, Republic of Vietnam Campaign Medal. Please Join with us as we stand and honor this True American Hero.\n\n\nPRIMARY STAGING DETAILS: 07-13-19 \nStaging Time: 9:30 am\n \nPro Caliber Motor Sports\n10703 NE 4th Plain\nVancouver\, Washington 98662\n\n\nRide Captain: \nChuck Lashley\n360-747-1958\nChuck@lastruckrepair.com\n\n\nSpecial Instructions: \nSV: Donald Gagnon\n503-309-7873\n\n9:45 AM – Mission Briefing\n10:00 AM KSU to Mission Location\n10:30 AM Flag Line in Place\n11:00 AM Ceremony Begins\, quietly fade away after Military Honors\n\n\nFlags & Water:\n\n\nFlags will be provided\nLarge Bike Flags will NOT be needed.\nWater WILL NOT be provided\, please bring your own.\n\n\nSubmitted By: Chuck Lashley \nPosition: SW Washington District Captain \n\nNote: You do not have to own/ride a motorcycle or be a veteran to join\, and membership is Free. The only requirement is RESPECT! To subscribe to receive mission notices\, log into the National Site and click on the Members tab at the top. Select the Subscribe to PGR Missions option.\n Print This Page
URL:https://www.patriotguard.org/mission/william-dale-peden/
CATEGORIES:Honor Mission
END:VEVENT
END:VCALENDAR