BEGIN:VCALENDAR
VERSION:2.0
PRODID:-//Patriot Guard Riders - ECPv5.6.0//NONSGML v1.0//EN
CALSCALE:GREGORIAN
METHOD:PUBLISH
X-WR-CALNAME:Patriot Guard Riders
X-ORIGINAL-URL:https://www.patriotguard.org
X-WR-CALDESC:Events for Patriot Guard Riders
BEGIN:VTIMEZONE
TZID:America/New_York
BEGIN:DAYLIGHT
TZOFFSETFROM:-0500
TZOFFSETTO:-0400
TZNAME:EDT
DTSTART:20160313T070000
END:DAYLIGHT
BEGIN:STANDARD
TZOFFSETFROM:-0400
TZOFFSETTO:-0500
TZNAME:EST
DTSTART:20161106T060000
END:STANDARD
END:VTIMEZONE
BEGIN:VEVENT
DTSTART;TZID=America/New_York:20160614T090000
DTEND;TZID=America/New_York:20160614T110000
DTSTAMP:20210513T145015
CREATED:20160614T130000Z
LAST-MODIFIED:20191201T145245Z
UID:411435-1465894800-1465902000@www.patriotguard.org
SUMMARY:William D. Cleghorn\, USN Veteran
DESCRIPTION:The Cleghorn family has invited the Patriot Guard Riders to Honor their fallen Hero William D. Cleghorn\, who found peace  at Saint Mary’s Hospital in Richmond\, VA on 31 May 2016\, after a six month struggle with cancer.\nMr. Cleghorn was born in Detroit\, MI 4 December 1942.  On 10 August 1960 he joined the Navy to serve our country and was honorable discharged 03 December 1963.\nWilliam was a retired City of Richmond Firefighter\, EMT and also served on the department’s Dive Team.  He was an active member of the Red Knights.\nMr. Cleghorn is survived by two children and the  proud grandfather of six grandchildren. \nStage:  10:00am / Ridge Baptist Church\, 1515 E. Ridge Road Richmond\, VA 23229. \nBrief:  10:20am / set Flag Line for family & guest arrival. \nUpon  conclusion of the Church ceremony we will escort family and guests to  Mr. William D. Cleghorn’s final resting place\, Greenwood Memorial  Gardens\, 12609 Patterson Ave\, Richmond\, VA 23238.  This will be approximately a 7 mile escort. \nWeather:  At this time looks to be cold\, dress accordingly.  \nRide Captain:  Hugh Horne\, h.horne@comcast.net  \nCo Ride Captain:  Jim “Da Bears” McGinley\, jbmcginley48@msn.com 757-768-2437
URL:https://www.patriotguard.org/mission/william-d-cleghorn-usn-veteran/
CATEGORIES:Archive
END:VEVENT
END:VCALENDAR