BEGIN:VCALENDAR
VERSION:2.0
PRODID:-//Patriot Guard Riders - ECPv5.6.0//NONSGML v1.0//EN
CALSCALE:GREGORIAN
METHOD:PUBLISH
X-WR-CALNAME:Patriot Guard Riders
X-ORIGINAL-URL:https://www.patriotguard.org
X-WR-CALDESC:Events for Patriot Guard Riders
BEGIN:VTIMEZONE
TZID:America/New_York
BEGIN:DAYLIGHT
TZOFFSETFROM:-0500
TZOFFSETTO:-0400
TZNAME:EDT
DTSTART:20160313T070000
END:DAYLIGHT
BEGIN:STANDARD
TZOFFSETFROM:-0400
TZOFFSETTO:-0500
TZNAME:EST
DTSTART:20161106T060000
END:STANDARD
END:VTIMEZONE
BEGIN:VEVENT
DTSTART;TZID=America/New_York:20160711T090000
DTEND;TZID=America/New_York:20160711T110000
DTSTAMP:20210512T152758
CREATED:20160711T130000Z
LAST-MODIFIED:20191201T144421Z
UID:410675-1468227600-1468234800@www.patriotguard.org
SUMMARY:William Cline\, Jr\, USAAF
DESCRIPTION:Patriot’s Name: MSgt William Cline\, Jr.\nMilitary Branch: United States Army Air Corps\nClassification: Veteran\nAdditional Military Info: World War II Veteran \nMission Ride Captain: Carlton “Cruiser” Emmons\, cruiser54@charter.net\, (817) 205-3339 \nMission Summary: The Family of MSgt William Cline\, Jr. has requested the PGR to render Honors for this WWII Veteran at his Inurnment service. \nPART 1: Inurnment Service\nMission Date: Jul 11\, 2016 – Monday \nStaging Time: 08:15 \nBriefing Time: 08:30 \nIn Position Time Or KSU: 08:45 \nService Start Time: 09:00 \nDetails Of Part 1:\nCommittal Shelter lane assignment is unknown at this time. \nCheck with the Ride Captain upon arrival for lane assignment. \nDuring the briefing\, 4 Honor Bikes will be selected to escort the family to the committal shelter. \nName Of Staging Point:\nDallas Fort Worth National Cemetery\n2000 Mountain Creek Parkway\nDallas\, TX
URL:https://www.patriotguard.org/mission/william-cline-jr-usaaf/
CATEGORIES:Archive
END:VEVENT
END:VCALENDAR