BEGIN:VCALENDAR
VERSION:2.0
PRODID:-//Patriot Guard Riders - ECPv5.3.2.1//NONSGML v1.0//EN
CALSCALE:GREGORIAN
METHOD:PUBLISH
X-WR-CALNAME:Patriot Guard Riders
X-ORIGINAL-URL:https://www.patriotguard.org
X-WR-CALDESC:Events for Patriot Guard Riders
BEGIN:VTIMEZONE
TZID:America/New_York
BEGIN:DAYLIGHT
TZOFFSETFROM:-0500
TZOFFSETTO:-0400
TZNAME:EDT
DTSTART:20170312T070000
END:DAYLIGHT
BEGIN:STANDARD
TZOFFSETFROM:-0400
TZOFFSETTO:-0500
TZNAME:EST
DTSTART:20171105T060000
END:STANDARD
END:VTIMEZONE
BEGIN:VEVENT
DTSTART;TZID=America/New_York:20170822T143000
DTEND;TZID=America/New_York:20170822T163000
DTSTAMP:20210406T010842
CREATED:20170822T183000Z
LAST-MODIFIED:20191201T030211Z
UID:306777-1503412200-1503419400@www.patriotguard.org
SUMMARY:William Claude Ellis\, Veteran\, USN - Korea
DESCRIPTION:William Claude Ellis\, Veteran\nUSN  – Korea\nHuntsville\, Alabama – 22 Aug 2017\n\n[HR][/HR]\nABOUT THE MISSION: \n\nThe Family of William Claude Ellis  has  asked the Patriot Guard to honor their loved one by standing a silent  flag line at his Visitation and Memorial Service.  We will be Honored to do so. \nMr. Ellis stood for us…..Now is the time to stand for him. \nMr. Ellis (84) was in the U.S. Navy in Korea and served with distinction.\n \n\nPRIMARY STAGING DETAILS:  22 Aug 2017\nPrimary Staging Time: 2:30 P.M. \n\nBerryhill Funeral Home\n2305 Memorial Pky\, N.\nHuntsville\, Alabama – 35810\n\n\nRide Captain: \n\nCoop\npgrcoop@gmail.com\n256-653-2896 \nFlag Captain: Gary Moore\ngmoore3009@hotmail.com\n256-425-7002\n\n\nSpecial Instructions: \n\nPlace Flags\nSet flag line by 2:45 pm\nVisitation begins at 3:00 pm\nMemorial Service begins at 5:00 pm\n\n\nFlags & Water: \n\nFlags Will Be Provided\nLarge Bike Flags will NOT be needed.\nWater will be provided.\n\n\nSubmitted By: John Cooper\nPosition: Ride Captain\n[HR][/HR]Note:\nYou do not have to own/ride a motorcycle or be a Veteran to join and membership is Free. The only requirement is RESPECT! To join\, simply go to www.PatriotGuard.org and click on Register. Membership is Free. \nTo subscribe to receive mission notices\, log into the National Site and click on the Mission Tab at the top. Select the Subscribe to Missions option.
URL:https://www.patriotguard.org/mission/william-claude-ellis-veteran-usn-korea/
END:VEVENT
END:VCALENDAR