BEGIN:VCALENDAR
VERSION:2.0
PRODID:-//Patriot Guard Riders - ECPv5.3.2.1//NONSGML v1.0//EN
CALSCALE:GREGORIAN
METHOD:PUBLISH
X-WR-CALNAME:Patriot Guard Riders
X-ORIGINAL-URL:https://www.patriotguard.org
X-WR-CALDESC:Events for Patriot Guard Riders
BEGIN:VTIMEZONE
TZID:America/New_York
BEGIN:DAYLIGHT
TZOFFSETFROM:-0500
TZOFFSETTO:-0400
TZNAME:EDT
DTSTART:20190310T070000
END:DAYLIGHT
BEGIN:STANDARD
TZOFFSETFROM:-0400
TZOFFSETTO:-0500
TZNAME:EST
DTSTART:20191103T060000
END:STANDARD
END:VTIMEZONE
BEGIN:VEVENT
DTSTART;VALUE=DATE:20190627
DTEND;VALUE=DATE:20190628
DTSTAMP:20210405T135359
CREATED:20190625T224620Z
LAST-MODIFIED:20191127T073132Z
UID:165769-1561593600-1561679999@www.patriotguard.org
SUMMARY:William Charles Wood
DESCRIPTION:Honor Mission\n1SG William Charles Wood\, Retired\nARNG –\nNorth Little Rock\, Arkansas – 06-27-19\n\n\n\nABOUT THE MISSION: \nThe Patriot Guard Riders have been asked to stand for WC Wood on his final journey. First Sgt. Wood served in the Arkansas Army National Guard for 43 years. He is survived by a son\, two daughters\, five grandchildren\, five great-grandchildren\, and other family members. It will be an honor to stand to for him.\n\n\nPRIMARY STAGING DETAILS: 06-27-19 \nStaging Time: 08:15 AM \nPark Hill Baptist Church\n201 E. C Ave.\nNorth Little Rock\, Arkansas 72116\nMap\n\n\nRide Captain: \nMartha Mayland\n501-416-1194\nmarthamayland@sbcglobal.net\n\n\nSpecial Instructions: \nStaging : 8:15 am\nBriefing : 8:30 am\nFlag Line : 9:00-10:00 am\nRespect Line: 12:30\nEscort following to Arkansas State Veterans Cemetery\, 1501 W. Maryland Ave.\, North Little Rock\, AR. 72120.\nFlag Line and Military Honors: 1:00 pm\n\n\nFlags & Water:\nFlags will be provided\nIf you have large bike flags\, please bring them.\nWater will be provided.\n\n\n\nSubmitted By: Martha Mayland \nPosition: Arkansas Ride Captain \n\nNote: You do not have to own/ride a motorcycle or be a veteran to join\, and membership is Free. The only requirement is RESPECT! To subscribe to receive mission notices\, log into the National Site and click on the Members tab at the top. Select the Subscribe to PGR Missions option.\n Print This Page
URL:https://www.patriotguard.org/mission/william-charles-wood/
CATEGORIES:Honor Mission
END:VEVENT
END:VCALENDAR