BEGIN:VCALENDAR
VERSION:2.0
PRODID:-//Patriot Guard Riders - ECPv5.3.2.1//NONSGML v1.0//EN
CALSCALE:GREGORIAN
METHOD:PUBLISH
X-WR-CALNAME:Patriot Guard Riders
X-ORIGINAL-URL:https://www.patriotguard.org
X-WR-CALDESC:Events for Patriot Guard Riders
BEGIN:VTIMEZONE
TZID:America/New_York
BEGIN:DAYLIGHT
TZOFFSETFROM:-0500
TZOFFSETTO:-0400
TZNAME:EDT
DTSTART:20190310T070000
END:DAYLIGHT
BEGIN:STANDARD
TZOFFSETFROM:-0400
TZOFFSETTO:-0500
TZNAME:EST
DTSTART:20191103T060000
END:STANDARD
END:VTIMEZONE
BEGIN:VEVENT
DTSTART;VALUE=DATE:20190824
DTEND;VALUE=DATE:20190825
DTSTAMP:20210402T133614
CREATED:20190822T125925Z
LAST-MODIFIED:20190822T125925Z
UID:171505-1566604800-1566691199@www.patriotguard.org
SUMMARY:William C. Brennenstahl
DESCRIPTION:Honor Mission\nWilliam C. Brennenstahl\, Veteran\nUSN –\nBrooks\, Kentucky – 08-24-19\n\n\n\nABOUT THE MISSION: \nWe have been asked by the family to stand a flagline in Mr Brennenstahl’s honor and escort him to his final resting place.\n\n\nPRIMARY STAGING DETAILS: 08-24-19 \nStaging Time: 9:45 AM\n \nSchoppenhorst\, Underwood and Brooks\n4895 N. Preston Hwy\nBrooks\, Kentucky 40165\n\n\nRide Captain: \nTom Baker\n502-271-8955\n\n\nSpecial Instructions: \nFlagline will be from 10am till 12pm.\nEscort to final resting place after service.\n\n\nFlags & Water:\nFlags will be provided\nIf you have large bike flags\, please bring them.\nWater WILL NOT be provided\, please bring your own.\n\n\n\nSubmitted By: Thomas Baker \nPosition: Kentucky Ride Captain \n\nNote: You do not have to own/ride a motorcycle or be a veteran to join\, and membership is Free. The only requirement is RESPECT! To subscribe to receive mission notices\, log into the National Site and click on the Members tab at the top. Select the Subscribe to PGR Missions option.\n Print This Page
URL:https://www.patriotguard.org/mission/william-c-brennenstahl/
CATEGORIES:Honor Mission
END:VEVENT
END:VCALENDAR