BEGIN:VCALENDAR
VERSION:2.0
PRODID:-//Patriot Guard Riders - ECPv5.3.2.1//NONSGML v1.0//EN
CALSCALE:GREGORIAN
METHOD:PUBLISH
X-WR-CALNAME:Patriot Guard Riders
X-ORIGINAL-URL:https://www.patriotguard.org
X-WR-CALDESC:Events for Patriot Guard Riders
BEGIN:VTIMEZONE
TZID:America/New_York
BEGIN:DAYLIGHT
TZOFFSETFROM:-0500
TZOFFSETTO:-0400
TZNAME:EDT
DTSTART:20170312T070000
END:DAYLIGHT
BEGIN:STANDARD
TZOFFSETFROM:-0400
TZOFFSETTO:-0500
TZNAME:EST
DTSTART:20171105T060000
END:STANDARD
END:VTIMEZONE
BEGIN:VEVENT
DTSTART;TZID=America/New_York:20170414T123000
DTEND;TZID=America/New_York:20170414T143000
DTSTAMP:20210401T230632
CREATED:20170414T163000Z
LAST-MODIFIED:20191201T031740Z
UID:322839-1492173000-1492180200@www.patriotguard.org
SUMMARY:William (Bill) Welch\, Retired\, USN\, USAF\, USAFR - Vietnam
DESCRIPTION:William (Bill) Welch\, LT Commander\, Retired \nUSN\, USAF USAFR – Vietnam \nMULTI-CITY\, Kansas – 14 Apr 2017\n\n[HR][/HR]\nABOUT THE MISSION: \nEscort to and flag line at Leavenworth National Cemetery where LTC Welch and his wife will both be interred. Bill served in both the U.S. Air Force and U.S. Navy and retired after 27 years of active service. He was awarded the Vietnam Service Medal\, Joint Service Commendation Medal\, National Defense Service Medal\, Good Conduct Medal and National Defense Service Medal\, Meritorious Unit Commendation. LTC Welch worked at the the Defense Intelligence Agency in Washington and then served in Vietnam with COMUSMACV\, as Chief\, Intelligence Data Handling Systems Branch and later in Sicily as COMFAIRMED (Commander Fleet Air Mediterranean). He also served as Communications Officer at Midway Island. Bill retired from the U.S. Navy in 1979. \nPRIMARY STAGING DETAILS: 14 Apr 2017 \n \nPrimary Staging Time: 12:30 P.M.\n\nStage at corner of E 1600 Rd. (O’Connell Rd) and Exchange Place Rd.(Road to Tractor Supply).\n\nLawrence\, Kansas – 66046\n\n\n\n \n\nRide Captain:\n\nNancy (Pee Wee) & Bill (Kayak) Cassity\nnjcassi@embarqmail.com\n785-766-7247\n\n \n\nSpecial Instructions:\n\nTake 23rd Street to E 1600 Rd. (O’Connell Rd).\nSouth on E 1600 Rd approximately 500 ft. to FIRST LEFT (EAST) which is Exchange Place Rd.\nTurn LEFT (East) on Exchange Place Rd and begin staging at that intersection.\n\n \n\nFlags & Water:\n\nFlags Will Be Provided\n\nIf you have large bike flags\, please bring them.\n\nWater WILL NOT be provided\, please bring your own.\n\n\nSubmitted By: Bruce Holmes\nPosition: Assistant State Captain \n[HR][/HR]\nNote:\nYou do not have to own/ride a motorcycle or be a Veteran to join and membership is Free. The only requirement is RESPECT! To join\, simply go to www.PatriotGuard.org and click on Register. Membership is Free. \nTo subscribe to receive mission notices\, log into the National Site and click on the Mission Tab at the top. Select Upcoming Missions by State. Scroll to the state(s) you would like to receive notices for and click on the green check mark. Detailed instructions are also located in the FAQs on the site by clicking on the Quick Links Tab and selecting FAQs.
URL:https://www.patriotguard.org/mission/william-bill-welch-retired-usn-usaf-usafr-vietnam/
END:VEVENT
END:VCALENDAR