BEGIN:VCALENDAR
VERSION:2.0
PRODID:-//Patriot Guard Riders - ECPv5.3.2.1//NONSGML v1.0//EN
CALSCALE:GREGORIAN
METHOD:PUBLISH
X-WR-CALNAME:Patriot Guard Riders
X-ORIGINAL-URL:https://www.patriotguard.org
X-WR-CALDESC:Events for Patriot Guard Riders
BEGIN:VTIMEZONE
TZID:America/New_York
BEGIN:DAYLIGHT
TZOFFSETFROM:-0500
TZOFFSETTO:-0400
TZNAME:EDT
DTSTART:20210314T070000
END:DAYLIGHT
BEGIN:STANDARD
TZOFFSETFROM:-0400
TZOFFSETTO:-0500
TZNAME:EST
DTSTART:20211107T060000
END:STANDARD
END:VTIMEZONE
BEGIN:VEVENT
DTSTART;VALUE=DATE:20210404
DTEND;VALUE=DATE:20210405
DTSTAMP:20210405T171119
CREATED:20210402T115314Z
LAST-MODIFIED:20210402T115314Z
UID:573598-1617494400-1617580799@www.patriotguard.org
SUMMARY:William "Bill" McGratha
DESCRIPTION:Honor Mission\nWilliam “Bill” McGratha\, Retired\nUSA – Vietnam\nNew Boston\, Texas – 04-04-21\n\n\n\nABOUT THE MISSION: \nNo obituary at this time. SFC William (Bill) Mc Gatha served his country for sixteen years\, six of which were in Vietnam. His education and training include Drill Sgt School USATC (AD) 1966\, Vietnamese DLISC 1968\, NCO Academy HQ USAHAW 1970. Awards include NDSM(1st OLC )\, GCMDL(2nd awd)(3rd awd)\, Drill Sgt ID Badge\, Civil Action Honor Medal\, Vietnam Cross (2nd Awd)(3rd Awd)\, RVNCM w/60 Device.\n\n\nPRIMARY STAGING DETAILS: 04-04-21 \nStaging Time: 12:15 PM\n \nThe Red Bayou Cemetery / United Methodist Church\n78 CR 2002\nNew Boston\, Texas 75570\nMap\n\n\nRide Captain: \nRichard Arthur\nPhone: 903-278-1095\nEmail Address: n5rga7105@gmail.com\n\n\nSpecial Instructions: \nStage from: 12:15PM to 12:45PM\nRiders meeting at 12:45PM\nFLAG LINE ONLY (SEMPER GUMBY)\n\nFlags & Water:\nFlags will be provided\nLarge Bike Flags will NOT be needed.\nWater will be provided.\n\n\nSubmitted By: Michael Eubank \nPosition: Texas Deputy State Captain \n\nNote: You do not have to own/ride a motorcycle or be a veteran to join\, and membership is Free. The only requirement is RESPECT! To subscribe to receive mission notices\, log into the National Site and click on the Members tab at the top. Select the Subscribe to PGR Missions option.\n Print This Page
URL:https://www.patriotguard.org/mission/william-bill-mcgratha/
CATEGORIES:Honor Mission
END:VEVENT
END:VCALENDAR