BEGIN:VCALENDAR
VERSION:2.0
PRODID:-//Patriot Guard Riders - ECPv5.3.2.1//NONSGML v1.0//EN
CALSCALE:GREGORIAN
METHOD:PUBLISH
X-WR-CALNAME:Patriot Guard Riders
X-ORIGINAL-URL:https://www.patriotguard.org
X-WR-CALDESC:Events for Patriot Guard Riders
BEGIN:VTIMEZONE
TZID:America/New_York
BEGIN:DAYLIGHT
TZOFFSETFROM:-0500
TZOFFSETTO:-0400
TZNAME:EDT
DTSTART:20170312T070000
END:DAYLIGHT
BEGIN:STANDARD
TZOFFSETFROM:-0400
TZOFFSETTO:-0500
TZNAME:EST
DTSTART:20171105T060000
END:STANDARD
END:VTIMEZONE
BEGIN:VEVENT
DTSTART;TZID=America/New_York:20170922T140000
DTEND;TZID=America/New_York:20170922T160000
DTSTAMP:20210404T161320
CREATED:20170922T180000Z
LAST-MODIFIED:20191201T031542Z
UID:319643-1506088800-1506096000@www.patriotguard.org
SUMMARY:William "Bill" LaSchiava\, Veteran\, USAF\, USAFR - Korea
DESCRIPTION:Amn  William “Bill” LaSchiava\, Veteran\nUSAF USAFR  – Korea\nElwood\, Illinois – 22 Sep 2017\n\n\n[HR][/HR]\nABOUT THE MISSION: \n\nAmn LaSchiava proudly and honorably served  our country in the US Air Force in the Korean Conflict. Bill’s family  has asked the presence of The Patriot Guard along with The Air Force to  honor him during his burial.\n\n\nPRIMARY STAGING DETAILS:  22 Sep 2017\nPrimary Staging Time: 2 P.M. \n\nALNC\n20953 Hoff Rd\nElwood\, Illinois –\n\n\nRide Captain: \n\nbigDave\n312 405-2692\n\n\nSpecial Instructions:\n\nFlags & Water: \n\nFlags Will Be Provided\nIf you have large bike flags\, please bring them.\nWater WILL NOT be provided\, please bring your own.\n\n\nSubmitted By: David Gier\nPosition: Ride Captain\n[HR][/HR]Note:\nYou do not have to own/ride a motorcycle or be a Veteran to join and membership is Free. The only requirement is RESPECT! To join\, simply go to www.PatriotGuard.org and click on Register. Membership is Free. \nTo subscribe to receive mission notices\, log into the National Site and click on the Mission Tab at the top. Select the Subscribe to Missions option.
URL:https://www.patriotguard.org/mission/william-bill-laschiava-veteran-usaf-usafr-korea/
LOCATION:Richard F Larsen
END:VEVENT
END:VCALENDAR