BEGIN:VCALENDAR
VERSION:2.0
PRODID:-//Patriot Guard Riders - ECPv5.3.2.1//NONSGML v1.0//EN
CALSCALE:GREGORIAN
METHOD:PUBLISH
X-WR-CALNAME:Patriot Guard Riders
X-ORIGINAL-URL:https://www.patriotguard.org
X-WR-CALDESC:Events for Patriot Guard Riders
BEGIN:VTIMEZONE
TZID:America/New_York
BEGIN:DAYLIGHT
TZOFFSETFROM:-0500
TZOFFSETTO:-0400
TZNAME:EDT
DTSTART:20190310T070000
END:DAYLIGHT
BEGIN:STANDARD
TZOFFSETFROM:-0400
TZOFFSETTO:-0500
TZNAME:EST
DTSTART:20191103T060000
END:STANDARD
END:VTIMEZONE
BEGIN:VEVENT
DTSTART;VALUE=DATE:20190903
DTEND;VALUE=DATE:20190904
DTSTAMP:20210401T115826
CREATED:20190902T144933Z
LAST-MODIFIED:20190902T144933Z
UID:172158-1567468800-1567555199@www.patriotguard.org
SUMMARY:William "Bill" Helton
DESCRIPTION:Honor Mission\nWilliam “Bill” Helton\, Veteran\nUSAF – Vietnam\nChattanooga\, Tennessee – 09-03-19\n\n\n\nABOUT THE MISSION: \nThe Patriot Guard Riders will honor William “Bill” Helton\, 70\, Air Force\, Vietnam Era of Fallon\, NV with a Silent Flag line and escort to his final place of rest. Mr. Helton served his country during the Vietnam war. He was in air weather service for 13 years before becoming an Air Traffic Controller. He was also a paratrooper. He served for 21 years before retiring in 1985. Mr. Helton passed in Fallon\, NV\, but he requested to be buried in Chattanooga.\n\n\nPRIMARY STAGING DETAILS: 09-03-19 \nStaging Time: 9:00 am  \nChampys Chicken\n6925 Lee Hwy\nChattanooga\, Tennessee 37421\n\n\nRide Captain: \nDustin Shankles\n423-710-4224\n\n\nSpecial Instructions: \nThis is a meet site to organize and ride to the Helton Residence to receive the Cremains of MSgt Helton.\n\n\nFlags & Water:\nFlags will be provided\nIf you have large bike flags\, please bring them.\nWater will be provided.\n\n\nSTAGING #3 DETAILS: 09-03-19 \nStaging Time: 11:00 AM\n \nChattanooga National Cemetery\n1800 Bailey Ave.\nChattanooga\, Tennessee 37404\n\n\nRide Captain: \nDustin Shankles\n423-710-4224\n\n\nSpecial Instructions: \nIf staging at Cemetery\, wait for the arrival of escort from family residence.\n\n\nFlags & Water:\nFlags will be provided\nIf you have large bike flags\, please bring them.\nWater WILL NOT be provided\, please bring your own.\n\n\n\nSubmitted By: Thonda Farmer \nPosition: Tennessee Assistant State Captain \n\nNote: You do not have to own/ride a motorcycle or be a veteran to join\, and membership is Free. The only requirement is RESPECT! To subscribe to receive mission notices\, log into the National Site and click on the Members tab at the top. Select the Subscribe to PGR Missions option.\n Print This Page
URL:https://www.patriotguard.org/mission/william-bill-helton/
CATEGORIES:Honor Mission
END:VEVENT
END:VCALENDAR