BEGIN:VCALENDAR
VERSION:2.0
PRODID:-//Patriot Guard Riders - ECPv5.3.2.1//NONSGML v1.0//EN
CALSCALE:GREGORIAN
METHOD:PUBLISH
X-WR-CALNAME:Patriot Guard Riders
X-ORIGINAL-URL:https://www.patriotguard.org
X-WR-CALDESC:Events for Patriot Guard Riders
BEGIN:VTIMEZONE
TZID:America/New_York
BEGIN:DAYLIGHT
TZOFFSETFROM:-0500
TZOFFSETTO:-0400
TZNAME:EDT
DTSTART:20210314T070000
END:DAYLIGHT
BEGIN:STANDARD
TZOFFSETFROM:-0400
TZOFFSETTO:-0500
TZNAME:EST
DTSTART:20211107T060000
END:STANDARD
END:VTIMEZONE
BEGIN:VEVENT
DTSTART;VALUE=DATE:20210409
DTEND;VALUE=DATE:20210410
DTSTAMP:20210405T172854
CREATED:20210402T231519Z
LAST-MODIFIED:20210402T231519Z
UID:573663-1617926400-1618012799@www.patriotguard.org
SUMMARY:William "Bill" Baloños
DESCRIPTION:Honor Mission\nWilliam “Bill” Baloños\nUSA\, USAR – Vietnam\nGlendale\, Arizona – 04-09-21\n\n\n\nABOUT THE MISSION: \nWilliam “Bill” Bolaños is a United States Army Veteran. Bill entered active duty on Mar. 8\, 1965. Bill served 2 yrs.\, 11 months\, and 17 days\, including 1 yr.\, 6 months\, and 27 days of foreign service in Vietnam. Bill’s MOS (Military Occupation Specialty) was 76Y4S – Supply Specialist. Bill served with the United States 5th Special Forces – Green Beret. Bill was 1 of 4 brothers who served in Vietnam at the same time. They are the only 4 to have ever done so. On Feb. 24\, 1968\, Bill was released from active duty and transferred to the United States Army Reserve. Bill’s last duty assignment was Company D\, 5th Special Forces Group\, 1st Airborne. On Mar. 7\, 1971\, having completed his term of obligation\, Sergeant Bill Bolaños was honorably discharged. During his service to our country\, Bill received the following: National Defense Service Medal; Vietnam Service Medal; Vietnam Campaign Medal; Purple Heart; Soldier’s Medal; Bronze Star Medal.\n\nIt is our honor to stand in silent reverence as we show respect and gratitude to this hero for his sacrifices made for this nation.\n\n\nPRIMARY STAGING DETAILS: 04-09-21 \nStaging Time: 12:30  \nIndependence High School\n6602 N 75th Ave.(south parking lot off of Maryland Ave & 75th Ave.)\nGlendale\, Arizona 85303\n\n\nRide Captain: \nDavid Murphy\, aka\, Murf   480-406-4049    azpgrmurf@gmail.com\n\nLead Road Guard: Patrick H.\n\n\nSpecial Instructions: \nPer OPSEC protocol\, we will meet at this public location.\n12:40 PM: Mission briefing\n12:50 PM: KSU to a private location\n1:05 PM: Circle of Honor\n1:25 PM: KSU to National Memorial Cemetery\n2:30 PM: Military honors\n\n\nFlags & Water:\nFlags will not be provided\nIf you have large bike flags\, please bring them.\nWater WILL NOT be provided\, please bring your own.\n\nSTAGING #2 DETAILS: 04-09-21 \nStaging Time: 2:00  \nNational Memorial Cemetery of Arizona\n23029 N. Cave Creek Rd.\nPhoenix\, Arizona 85024\n\n\nRide Captain: \nDavid Murphy\, aka\, Murf   480-406-4049    azpgrmurf@gmail.com\n\nFlag support: TBD\n\n\nSpecial Instructions: \n2:20 PM: Set the flag line for the arrival of our hero\n2:30 PM: Military honors\n\nAlthough all prior Statewide mandates have been lifted at staging locations\, we must still adhere to the following:· All members are required to carry a face mask/cloth covering at all times during the mission. There are still partners (funeral homes\, cemeteries\, churches) that require masks to be worn. There are no exceptions.· If you feel ill or have a temperature\, please stay home until you improve.· If\, in the past week\, you have tested positive for COVID-19\, or you have been in contact with someone who has tested positive for COVID-19 in the past week\, immediately notify the State Captain or an Assistant State Captain. · Continue practicing social distancing while standing the flag line\, and at the support vehicle. Maintain at least 15 feet separation from all family members\, cemetery personnel\, Honor Guard\, funeral home staff\, clergy\, etc.· Wash your hands before\, during (as practical)\, and after the mission.· Water will be provided by the flag support person and passed out only by that person. No snacks will be provided by flag support and members should not bring any to share either.\n\n\nFlags & Water:\nFlags will be provided\nLarge Bike Flags will NOT be needed.\nWater will be provided.\n\nSubmitted By: David Murphy \nPosition: Arizona Assistant State Captain \n\nNote: You do not have to own/ride a motorcycle or be a veteran to join\, and membership is Free. The only requirement is RESPECT! To subscribe to receive mission notices\, log into the National Site and click on the Members tab at the top. Select the Subscribe to PGR Missions option.\n Print This Page
URL:https://www.patriotguard.org/mission/william-bill-balonos/
CATEGORIES:Honor Mission
END:VEVENT
END:VCALENDAR