BEGIN:VCALENDAR
VERSION:2.0
PRODID:-//Patriot Guard Riders - ECPv5.3.2.1//NONSGML v1.0//EN
CALSCALE:GREGORIAN
METHOD:PUBLISH
X-WR-CALNAME:Patriot Guard Riders
X-ORIGINAL-URL:https://www.patriotguard.org
X-WR-CALDESC:Events for Patriot Guard Riders
BEGIN:VTIMEZONE
TZID:America/New_York
BEGIN:DAYLIGHT
TZOFFSETFROM:-0500
TZOFFSETTO:-0400
TZNAME:EDT
DTSTART:20190310T070000
END:DAYLIGHT
BEGIN:STANDARD
TZOFFSETFROM:-0400
TZOFFSETTO:-0500
TZNAME:EST
DTSTART:20191103T060000
END:STANDARD
END:VTIMEZONE
BEGIN:VEVENT
DTSTART;VALUE=DATE:20190620
DTEND;VALUE=DATE:20190621
DTSTAMP:20210405T130241
CREATED:20190618T034836Z
LAST-MODIFIED:20190618T034836Z
UID:165060-1560988800-1561075199@www.patriotguard.org
SUMMARY:William B. Scott
DESCRIPTION:Honor Mission\nWilliam B. Scott\, Veteran\nUSA –\nAshland\, Kentucky – 06-20-19\n\n\n\nABOUT THE MISSION: \nWe have been invited by the family of William B. Scott\, 74\, to stand in his honor. Mr. Scott served our country with courage and honor in the United States Army. It is now our honor to stand for him. My thanks to each of you. Take care and ride safe.\n\n\nPRIMARY STAGING DETAILS: 06-20-19 \nStaging Time: 09:30 AM  \nMcDonalds\n150 Russell Road\nAshland\, Kentucky 41101\n\n\nRide Captain: \nEd Hicks\n606.694.1902\n\n\nSpecial Instructions: \nKSU @ 9:45 am\nService: 11:00 am. Fairview Baptist Church\, 2040 Main St W\, Ashland\, KY 41102.\nEscort following service to the Kentucky Veterans Cemetery.\n\n\nFlags & Water:\nFlags will not be provided\nIf you have large bike flags\, please bring them.\nWater WILL NOT be provided\, please bring your own.\n\n\n\nSubmitted By: Thomas Epperly \nPosition: Kentucky Assistant State Captain \n\nNote: You do not have to own/ride a motorcycle or be a veteran to join\, and membership is Free. The only requirement is RESPECT! To subscribe to receive mission notices\, log into the National Site and click on the Members tab at the top. Select the Subscribe to PGR Missions option.\n Print This Page
URL:https://www.patriotguard.org/mission/william-b-scott/
CATEGORIES:Honor Mission
END:VEVENT
END:VCALENDAR