BEGIN:VCALENDAR
VERSION:2.0
PRODID:-//Patriot Guard Riders - ECPv5.6.0//NONSGML v1.0//EN
CALSCALE:GREGORIAN
METHOD:PUBLISH
X-WR-CALNAME:Patriot Guard Riders
X-ORIGINAL-URL:https://www.patriotguard.org
X-WR-CALDESC:Events for Patriot Guard Riders
BEGIN:VTIMEZONE
TZID:America/New_York
BEGIN:DAYLIGHT
TZOFFSETFROM:-0500
TZOFFSETTO:-0400
TZNAME:EDT
DTSTART:20160313T070000
END:DAYLIGHT
BEGIN:STANDARD
TZOFFSETFROM:-0400
TZOFFSETTO:-0500
TZNAME:EST
DTSTART:20161106T060000
END:STANDARD
END:VTIMEZONE
BEGIN:VEVENT
DTSTART;TZID=America/New_York:20160801T090000
DTEND;TZID=America/New_York:20160801T110000
DTSTAMP:20210512T025800
CREATED:20160801T130000Z
LAST-MODIFIED:20191201T143920Z
UID:410213-1470042000-1470049200@www.patriotguard.org
SUMMARY:William B. Lee\, USA
DESCRIPTION:01 Aug 2016\nReverend William B. Lee\nU.S. Army\, WW II\nDora\, AL\n\n\nThe Patriot Guard Riders have been requested by the family to stand and present Honors for Mr Lee. \nMr Lee served as a Combat Engineer in WW II. He served in China\, Burma and India. He answered the call of duty\, so the Patriot Guard Riders will be honored to stand for him at this time at this time. \nStaging 1: 9:45 am\, 01 Aug 2016 (Visitation Starts at 10:00 am\, Service at 12:00 pm) \n    Bethel Baptist Church\n    7000 Bethel Rd\n    Dora\, AL 35062 \nStaging 2: New Horizon Memorial Gardens\n    Dora\, AL 35062 \nWeather: High of 92\, 20% chance of precipitation. \nRCIC: Harvey Nabors\n    hnabors@att.net\n                                                    (205) 915-5128
URL:https://www.patriotguard.org/mission/william-b-lee-usa/
CATEGORIES:Archive
END:VEVENT
END:VCALENDAR