BEGIN:VCALENDAR
VERSION:2.0
PRODID:-//Patriot Guard Riders - ECPv5.3.2.1//NONSGML v1.0//EN
CALSCALE:GREGORIAN
METHOD:PUBLISH
X-WR-CALNAME:Patriot Guard Riders
X-ORIGINAL-URL:https://www.patriotguard.org
X-WR-CALDESC:Events for Patriot Guard Riders
BEGIN:VTIMEZONE
TZID:America/New_York
BEGIN:DAYLIGHT
TZOFFSETFROM:-0500
TZOFFSETTO:-0400
TZNAME:EDT
DTSTART:20190310T070000
END:DAYLIGHT
BEGIN:STANDARD
TZOFFSETFROM:-0400
TZOFFSETTO:-0500
TZNAME:EST
DTSTART:20191103T060000
END:STANDARD
END:VTIMEZONE
BEGIN:VEVENT
DTSTART;VALUE=DATE:20190619
DTEND;VALUE=DATE:20190620
DTSTAMP:20210405T074811
CREATED:20190618T015118Z
LAST-MODIFIED:20190618T015118Z
UID:165053-1560902400-1560988799@www.patriotguard.org
SUMMARY:William Augustine Ray
DESCRIPTION:Memorial\nWilliam Augustine Ray\, Veteran\nUSN\nJacksonville\, North Carolina – 06-19-19\n\n\n \n\nABOUT THE MISSION: \nWilliam ‘Bill’ Augustine Ray was a man that was a strong believer in our lord and savior Jesus Christ. He also was an organ donor so that he may lend a helping hand to others\, so that their lives may be elongated. Mr. Ray faithfully served his country for five years in the US Navy and obtained the rank of Petty Officer Second Class being awarded The National Defense Service Medal and A Good Conduct Medal\, 1st Award.  He was with Reconnaissance Attack Squadron Five when he became disabled and was honorable discharged.  Mr. Ray comes from a strong military family with a combined service of over a hundred years.  Obituary\n\n\nPRIMARY STAGING DETAILS: 06-19-19 \nStaging Time: 11:45 am\n \nEmmanuel Free Baptist Church\n1694 Halltown Rd.\nJacksonville\, North Carolina 28646\nMap\n\n\nRide Captain: \nGeorge “OleIrish” Hayden\nChiefcoper@gmail.com\n252-945-0924\n\n\nSpecial Instructions: \nThe family has also requested Patriot Guard Riders be Pallbearers.\nPrimary Staging: 11:45 am\nSet flags and conduct briefing: 12:30 pm\nEstablish flag line until family arrives 1:00 pm\nStand down flag line until memorial concludes.\nAfter Memorial concludes escort to final resting place in Onslow Memorial Park.\n\nFlags & Water:\nFlags will be provided\nIf you have large bike flags\, please bring them.\nWater will be provided.\n\n\n\nSubmitted By: George Hayden \nPosition: North Carolina Ride Captain \n\nNote: You do not have to own/ride a motorcycle or be a veteran to join\, and membership is Free. The only requirement is RESPECT! To subscribe to receive mission notices\, log into the National Site and click on the Members tab at the top. Select the Subscribe to PGR Missions option.\n Print This Page
URL:https://www.patriotguard.org/mission/william-augustine-ray/
CATEGORIES:Memorial
END:VEVENT
END:VCALENDAR