BEGIN:VCALENDAR
VERSION:2.0
PRODID:-//Patriot Guard Riders - ECPv5.3.2.1//NONSGML v1.0//EN
CALSCALE:GREGORIAN
METHOD:PUBLISH
X-WR-CALNAME:Patriot Guard Riders
X-ORIGINAL-URL:https://www.patriotguard.org
X-WR-CALDESC:Events for Patriot Guard Riders
BEGIN:VTIMEZONE
TZID:America/New_York
BEGIN:DAYLIGHT
TZOFFSETFROM:-0500
TZOFFSETTO:-0400
TZNAME:EDT
DTSTART:20190310T070000
END:DAYLIGHT
BEGIN:STANDARD
TZOFFSETFROM:-0400
TZOFFSETTO:-0500
TZNAME:EST
DTSTART:20191103T060000
END:STANDARD
END:VTIMEZONE
BEGIN:VEVENT
DTSTART;VALUE=DATE:20190805
DTEND;VALUE=DATE:20190806
DTSTAMP:20210402T153254
CREATED:20190802T134250Z
LAST-MODIFIED:20190802T134250Z
UID:169540-1564963200-1565049599@www.patriotguard.org
SUMMARY:William Art Essex
DESCRIPTION:Honor Mission\nWilliam Art Essex\, Veteran\nUSA – Vietnam\nMULTI-CITY\, Arkansas – 08-05-19\n\n\n\nABOUT THE MISSION: \nWilliam Art Essex\, Age 69\, a resident of Colcord\, Oklahoma\, passed away Wednesday\, July 31\, 2019 at his home. He was born January 15\, 1950 in Miami\, Oklahoma\, the son of William Orville and Opal (Jones) Essex. William served on the West Siloam Fire Department for over twenty nine years and was also an Army veteran. Survivors include his wife\, two sons\, three daughters\, one brother\, two sisters\, eighteen grandchildren\, sixteen great-grandchildren\, two great-great grandchildren and several nephews and nieces.\nObituary\n\n\nPRIMARY STAGING DETAILS: 08-05-19 \nStaging Time: 08:45 am\n \nLuginbuel Funeral Home\n115 N Neal\nPrairie Grove\, Arkansas 72753\nMap\n\n\nRide Captain: \nGreg “Weebles” Weeks\nweeblespgr@att.net\n479-466-8586\n\nAsst: Cliff “Ol Man” Olson\, colson67@hotmail.com\, 479-301-4361\n\n\nSpecial Instructions: \nStaging at 0845\nNO FLAG LINE\nEscort only to Fayetteville National Cemetery.\n\n\nFlags & Water:\nFlags will not be provided\nIf you have large bike flags\, please bring them.\nWater WILL NOT be provided\, please bring your own.\n\nSTAGING #2 DETAILS: 08-05-19 \nStaging Time: 10:00 AM\n \nFayetteville National Cemetery\nGovernment Avenue\nFayetteville\, Arkansas 72701\n\n\nRide Captain: \nSame as Stage #1\n\n\nSpecial Instructions: \nUpon arrival at cemetery\, we will dismount and form a flag line until completion of ceremony\n\n\nFlags & Water:\nFlags will be provided\nIf you have large bike flags\, please bring them.\nWater WILL NOT be provided\, please bring your own.\n\n\n\nSubmitted By: Gregory Weeks \nPosition: \n\nNote: You do not have to own/ride a motorcycle or be a veteran to join\, and membership is Free. The only requirement is RESPECT! To subscribe to receive mission notices\, log into the National Site and click on the Members tab at the top. Select the Subscribe to PGR Missions option.\n Print This Page
URL:https://www.patriotguard.org/mission/william-art-essex/
CATEGORIES:Honor Mission
END:VEVENT
END:VCALENDAR